BEGIN:VCALENDAR
VERSION:2.0
PRODID:-//ChamberMaster//Event Calendar 2.0//EN
METHOD:PUBLISH
X-PUBLISHED-TTL:P3D
REFRESH-INTERVAL:P3D
CALSCALE:GREGORIAN
BEGIN:VEVENT
DTSTART:20140502T223000Z
DTEND:20140503T030000Z
X-MICROSOFT-CDO-ALLDAYEVENT:FALSE
SUMMARY:2 Events at Michael Molick Studio & Gallery
DESCRIPTION:EVENT 1:  May FIRST FRIDAY.  Come see what I've been working on in my series\, Meditations and Spiritual Awakening.\n\n\n\nEVENT 2:  May's ART EXPLORATION WORKSHOPs are about to begin!  Monday's classes begin May 5\, and Wednesday's classes begin May 7.  6-8:30 (flexible).\n\nAll supplies are included.  Registration is $120 for the 4 classes on each night.  A GREAT workshop for beginning painters\; I'm sure you'll love the work you produce.
X-ALT-DESC;FMTTYPE=text/html:<strong>EVENT 1:</strong> &nbsp\;May FIRST FRIDAY. &nbsp\;Come see what I&#39\;ve been working on in my series\, <strong><em>Meditations and Spiritual Awakening</em></strong>.<br />\n<br />\n<strong>EVENT 2: &nbsp\;</strong>May&#39\;s ART EXPLORATION WORKSHOPs are about to begin! &nbsp\;Monday&#39\;s classes begin May 5\, and Wednesday&#39\;s classes begin May 7. &nbsp\;6-8:30 (flexible).<br />\nAll supplies are included. &nbsp\;Registration is $120 for the 4 classes on each night. &nbsp\;A GREAT workshop for beginning painters\; I&#39\;m sure you&#39\;ll love the work you produce.
LOCATION:Michael Molick Studio & Gallery The Bauer\, Studio 304 115 W. 18th Street\, KCM 64108
UID:e.1487.115
SEQUENCE:3
DTSTAMP:20260421T082039Z
URL:http://business.midamericalgbt.org/events/details/2-events-at-michael-molick-studio-gallery-05-02-2014-115
END:VEVENT

END:VCALENDAR
