BEGIN:VCALENDAR
VERSION:2.0
PRODID:-//ChamberMaster//Event Calendar 2.0//EN
METHOD:PUBLISH
X-PUBLISHED-TTL:P3D
REFRESH-INTERVAL:P3D
CALSCALE:GREGORIAN
BEGIN:VEVENT
DTSTART:20140508T223000Z
DTEND:20140509T003000Z
X-MICROSOFT-CDO-ALLDAYEVENT:FALSE
SUMMARY:2 Year Anniversary Celebration
DESCRIPTION:We apologize by online registration has closed. You may register at the door this evening beginning at 5:30 pm. We hope to see you tonight at the 2 Year Anniversary Celebration! \n\n\n\nJoin the Mid-America Gay & Lesbian Chamber of Commerce for our 2 Year Anniversary Celebration on Thursday\, May 8th\, 5:30 to 7:30 pm!\n\n\n\nThe 2 Year Anniversary Celebration will be held at Mid-America GLCC Founding Partner Bishop-McCann\,  located at 1701 Walnut St\, Kansas City\, MO. Mid-America GLCC Board President Dan Nilsen will recap the Chamber's 2013 - 2014 successes and outline the goals of 2014 - 2015.\n\n\n\nThe 2 Year Anniversary Celebration will coincide with our monthly B2B Network.\n\n \n\nCelebrate * Network * Make new friends * Increase your bottom line!\n\n \n\nFree for MAGLCC Members. $20 each for Prospective Members.\n\n\n\nComplimentary hosted bar and delicious appetizers courtesy of Bistro 303.\n\n\n\nPlease pre-register to expedite registration.
X-ALT-DESC;FMTTYPE=text/html:<div><span style="color:#FF0000\;"><strong>We apologize by online registration has closed. You may register at the door this evening beginning at 5:30 pm. We hope to see you tonight at the 2 Year Anniversary Celebration! </strong></span><br />\n<br />\n<span>Join the <strong>Mid-America Gay &amp\; Lesbian Chamber of Commerce</strong> for <span>our <span _mce_style="color: #000090\;" style="color: #000090\;"><strong>2 Year Anniversary Celebration</strong></span> on<strong> Thursday\, May 8th</strong>\, <strong>5:30 to 7:30 pm</strong>!</span></span></div>\n\n<div><br />\nThe <strong>2 Year Anniversary Celebration</strong> will be held at <em>Mid-America GLCC </em><span><em>Founding Partner</em> <a _mce_href="http://www.bishopmccann.com/" _mce_shape="rect" _mce_style="color: blue\; text-decoration: underline\;" href="http://www.bishopmccann.com/" shape="rect" style="color: blue ! important\; text-decoration: underline ! important\;" target="_blank">Bishop-McCann</a>\,&nbsp\;</span> located at 1701 Walnut St\, Kansas City\, MO. <span>M<em>id-America GLCC </em></span><em>Board President</em> <strong>Dan Nilsen</strong> will recap the <span>Chamber&#39\;s</span> 2013 - 2014 successes and outline the goals of 2014 - 2015.<br />\n<br />\nThe <strong>2 Year Anniversary Celebration</strong> will coincide with our monthly <span>B2B</span> Network.<br />\n&nbsp\;</div>\n\n<div><span>Celebrate</span><span> * <span _mce_style="color: #000090\;" style="color: #000090\;">Network</span> * </span><span>Make new friends</span><span> * </span><span><span _mce_style="color: #000090\;" style="color: #000090\;">Increase your bottom line</span>!</span><br />\n&nbsp\;</div>\n\n<div><strong>Free for MAGLCC Members</strong><span>. $20 each for Prospective Members.<br />\n<br />\nComplimentary hosted bar and delicious appetizers courtesy of <a _mce_href="http://www.bistro303.com/" _mce_shape="rect" _mce_style="color: blue\; text-decoration: underline\;" href="http://www.bistro303.com/" shape="rect" style="color: blue ! important\; text-decoration: underline ! important\;" target="_blank">Bistro 303</a>.</span><br />\n<br />\n<span style="color:#0000FF\;"><em><strong>Please pre-register to expedite registration.</strong></em></span><br />\n&nbsp\;</div>\n
LOCATION:Bishop-McCann 1701 Walnut St Kansas City\, MO 64108
UID:e.1487.102
SEQUENCE:3
DTSTAMP:20260421T080139Z
URL:http://business.midamericalgbt.org/events/details/2-year-anniversary-celebration-05-08-2014-102
END:VEVENT

END:VCALENDAR
