BEGIN:VCALENDAR
VERSION:2.0
PRODID:-//ChamberMaster//Event Calendar 2.0//EN
METHOD:PUBLISH
X-PUBLISHED-TTL:P3D
REFRESH-INTERVAL:P3D
CALSCALE:GREGORIAN
BEGIN:VEVENT
DTSTART:20140228T143000Z
DTEND:20140228T210000Z
X-MICROSOFT-CDO-ALLDAYEVENT:FALSE
SUMMARY:2014 Diversity and Inclusion Summit
DESCRIPTION:Project Equality's Diversity and Inclusion Summit brings together leaders in the civic\, educational\, financial\, governmental\, health\, corporate and legal communities to discuss where we are in 2014 on the road to full inclusion\, but even more importantly\, what strategies will make equality and access a reality for all.
X-ALT-DESC;FMTTYPE=text/html:<table bgcolor="#d6d6d6" border="0" cellpadding="0" cellspacing="0" style="background-color: rgb(214\, 214\, 214)\; " width="100%">\n	<tbody>\n		<tr>\n			<td align="center" colspan="1" rowspan="1" style="font-family: arial\, sans-serif\; margin-top: 0px\; margin-right: 0px\; margin-bottom: 0px\; margin-left: 0px\; padding-top: 14px\; padding-right: 14px\; padding-bottom: 14px\; padding-left: 14px\; " valign="top">\n				<table border="0" cellpadding="0" cellspacing="0" style="width: 600px\; " width="1">\n					<tbody>\n						<tr>\n							<td align="center" bgcolor="#000000" colspan="1" rowspan="1" style="font-family: arial\, sans-serif\; margin-top: 0px\; margin-right: 0px\; margin-bottom: 0px\; margin-left: 0px\; background-color: rgb(0\, 0\, 0)\; padding-top: 1px\; padding-right: 1px\; padding-bottom: 1px\; padding-left: 1px\; " valign="top">\n								<table bgcolor="#ffffff" border="0" cellpadding="0" cellspacing="0" style="background-color: rgb(255\, 255\, 255)\; " width="100%">\n									<tbody>\n										<tr>\n											<td align="center" colspan="1" rowspan="1" style="font-family: arial\, sans-serif\; margin-top: 0px\; margin-right: 0px\; margin-bottom: 0px\; margin-left: 0px\; " valign="top">\n												<table border="0" cellpadding="0" cellspacing="0" style="background-image: initial\; background-attachment: initial\; background-origin: initial\; background-clip: initial\; background-color: transparent\; background-position: initial initial\; background-repeat: initial initial\; " width="100%">\n													<tbody>\n														<tr>\n															<td align="center" colspan="1" rowspan="1" style="font-family: arial\, sans-serif\; margin-top: 0px\; margin-right: 0px\; margin-bottom: 0px\; margin-left: 0px\; background-image: initial\; background-attachment: initial\; background-origin: initial\; background-clip: initial\; background-color: transparent\; background-position: initial initial\; background-repeat: initial initial\; " valign="top" width="100%">\n																<table border="0" cellpadding="0" cellspacing="0" width="100%">\n																	<tbody>\n																		<tr>\n																			<td align="center" colspan="1" rowspan="1" style="font-family: arial\, sans-serif\; margin-top: 0px\; margin-right: 0px\; margin-bottom: 0px\; margin-left: 0px\; padding-top: 0px\; padding-right: 12px\; padding-bottom: 0px\; padding-left: 12px\; " valign="top" width="100%">\n																				<table border="0" cellpadding="0" cellspacing="0" width="100%">\n																					<tbody>\n																						<tr>\n																							<td align="left" colspan="1" rowspan="1" style="font-family: Arial\, Helvetica\, sans-serif\; margin-top: 0px\; margin-right: 0px\; margin-bottom: 0px\; margin-left: 0px\; font-size: 11pt\; padding-top: 7px\; padding-right: 8px\; padding-bottom: 7px\; padding-left: 8px\; " valign="top">\n																								<div>\n																									Project Equality&#39\;s Diversity and Inclusion Summit brings together leaders in the civic\, educational\, financial\, governmental\, health\, corporate and legal communities to discuss where we are in 2014 on the road to full inclusion\, but even more importantly\, what strategies will make equality and access a reality for all.</div>\n																							</td>\n																						</tr>\n																					</tbody>\n																				</table>\n																			</td>\n																		</tr>\n																	</tbody>\n																</table>\n															</td>\n														</tr>\n													</tbody>\n												</table>\n											</td>\n										</tr>\n									</tbody>\n								</table>\n							</td>\n						</tr>\n					</tbody>\n				</table>\n			</td>\n		</tr>\n	</tbody>\n</table>\n<br />\n
LOCATION:Pierson Auditorium on the campus of UMKC
UID:e.1487.88
SEQUENCE:3
DTSTAMP:20260421T122757Z
URL:http://business.midamericalgbt.org/events/details/2014-diversity-and-inclusion-summit-02-28-2014-88
END:VEVENT

END:VCALENDAR
