BEGIN:VCALENDAR
VERSION:2.0
PRODID:-//ChamberMaster//Event Calendar 2.0//EN
METHOD:PUBLISH
X-PUBLISHED-TTL:P3D
REFRESH-INTERVAL:P3D
CALSCALE:GREGORIAN
BEGIN:VEVENT
DTSTART:20140426T150000Z
DTEND:20140426T170000Z
X-MICROSOFT-CDO-ALLDAYEVENT:FALSE
SUMMARY:26th Annual AIDS WALK Kansas City
DESCRIPTION:The 26th annual AIDS WALK Kansas City will be held on Saturday\, April 26th at Theis Park\, located at Emanuel Cleaver II Blvd. and Oak St\, east of the Plaza\, just south of the Nelson Atkins Museum of Art.  Registration begins at 8:00 am\, Welcoming Ceremonies commence at 9:00 am and at 10:00 am\, We Walk!\n\n \n\nThis year's AIDS WALK theme\, We Are Family\, reminds us that for 26 incredible years\, friends\, co-workers and the business community have joined as one\, supported as one and acted as one to strive for an AIDS-Free Kansas City.  When we participate in fundraising events\, we are family. When we form teams and share fundraising pages\, we are family.  And yes\, on April 26th when we lace up our sneakers and hit the streets to demonstrate that we remember those we have lost and rally for those whom we will not lose\, We Are Family! \n\n \n\nWe are pleased to announce that Saint Luke's Health System\, the Neighborhood Tourist Development Fund\, and Central States Beverages will serve as Underwriting Sponsors of AIDS WALK 2014. We are also thrilled to welcome a new Underwriting Sponsor\, Time Warner Cable!  As Co-Chairs of the event\, we welcome long-time AIDS WALK volunteers Ryan Gove & Doug Swink and Dean Cox & Bryan McQueen.\n\n \n\nExplore our fantastic new website at www.aidswalkkansascity.org.  Here you can register solo or join a team\, craft your singular fundraising appeal and harness the power of email and social media to spread your message of support and hope. The site also provides an ongoing Calendar of Events\, a thorough FAQ\, Team and Walker updates\, a download center and more.  And remember\, registration is always Free!\n\n \n\nLast year\, AIDS WALK Kansas City raised over $500\,000 in support of our local HIV/AIDS Service Organizations.  In fact\, as the following statistics confirm\, due to the tremendous efforts of the AIDS WALK Family\, Kansas City now surpasses national trends for identifying HIV positive individuals (98% v. 77%)\, providing long term holistic care (87% v. 51%) and suppressing viral loads (74% v. 35%).\n\n\n\nThese gains have been extraordinary\, but our efforts must not falter.  We hope you will join us on April 26th as our family continues the quest of love\, compassion and hope one step at a time for those struggling with HIV/AIDS in our home town.
X-ALT-DESC;FMTTYPE=text/html:<span style="font-size:10.0pt\;">The <strong>26<sup>th</sup> annual AIDS WALK Kansas City</strong> will be held on <strong>Saturday\, April 26<sup>th</sup></strong> at Theis Park\, located at Emanuel Cleaver II Blvd. and Oak St\, east of the Plaza\, just south of the Nelson&ndash\;Atkins Museum of Art.&nbsp\; Registration begins at 8:00 am\, Welcoming Ceremonies commence at 9:00 am and at 10:00 am\, <strong><em>We Walk!</em></strong></span><br />\n&nbsp\;<br />\n<span style="font-size:10.0pt\;">This year&rsquo\;s <strong>AIDS WALK</strong> theme\, <strong><em>We Are Family\, </em></strong>reminds us that for 26 incredible years\, friends\, co-workers and the business community have joined as one\, supported as one and acted as one to strive for an AIDS-Free Kansas City.&nbsp\; When we participate in fundraising events\, we are family. When we form teams and share fundraising pages\, we are family.&nbsp\; And yes\, on <strong>April 26<sup>th</sup></strong> when we lace up our sneakers and hit the streets to demonstrate that we remember those we have lost and rally for those whom we will not lose\, <strong><em>We Are</em> <em>Family</em></strong>! </span><br />\n&nbsp\;<br />\n<span style="font-size:10.0pt\;">We are pleased to announce that <strong>Saint Luke&rsquo\;s Health System</strong>\, the <strong>Neighborhood Tourist Development</strong> <strong>Fund</strong>\, and <strong>Central States Beverages</strong> will serve as <strong><em>Underwriting Sponsors</em></strong> of <strong>AIDS WALK 2014</strong>. We are also thrilled to welcome a new <strong><em>Underwriting Sponsor</em></strong>\, <strong>Time Warner Cable</strong>!&nbsp\; As <em>Co-Chairs</em> of the event\, we welcome long-time <strong>AIDS WALK</strong> volunteers <strong>Ryan Gove &amp\; Doug Swink</strong> and <strong>Dean Cox &amp\; Bryan McQueen</strong>.</span><br />\n&nbsp\;<br />\n<span style="font-size:10.0pt\;">Explore our fantastic new website at <a href="http://www.aidswalkkansascity.org/">www.aidswalkkansascity.org</a>.&nbsp\; Here you can <strong>register solo or join a team</strong>\, craft your singular fundraising appeal and harness the power of email and social media to spread your message of support and hope. The site also provides an ongoing Calendar of Events\, a thorough FAQ\, Team and Walker updates\, a download center and more. &nbsp\;And remember\, registration is always <strong>Free</strong>!</span><br />\n&nbsp\;<br />\n<span style="font-size:10.0pt\;">Last year\, <strong>AIDS WALK Kansas City</strong> raised over $500\,000 in support of our local HIV/AIDS Service Organizations. &nbsp\;In fact\, as the following statistics confirm\, due to the tremendous efforts of the <strong>AIDS</strong> <strong>WALK Family</strong>\, Kansas City now <strong>surpasses </strong>national trends for identifying <strong>HIV</strong> positive individuals <strong>(98% v. 77%</strong>)\, providing long term holistic care <strong>(87% v. 51%)</strong> and suppressing viral loads <strong>(74% v. 35%).</strong></span><br />\n<br />\n<span style="font-size:10.0pt\;">These gains have been extraordinary\, but our efforts must not falter.&nbsp\; We hope you will join us on April 26<sup>th</sup> as our family continues the quest of love\, compassion and hope one step at a time for those struggling with</span> <strong><span style="font-size:10.0pt\;">HIV/AIDS</span></strong><span style="font-size:10.0pt\;"> in our home town.&nbsp\; </span>
LOCATION:Theis Park located at Emanuel Cleaver II Blvd. and Oak St\, east of the Plaza\, just south of the Nelson?Atkins Museum of Art Kansas City\, MO
UID:e.1487.103
SEQUENCE:3
DTSTAMP:20260421T092356Z
URL:http://business.midamericalgbt.org/events/details/26th-annual-aids-walk-kansas-city-04-26-2014-103
END:VEVENT

END:VCALENDAR
