BEGIN:VCALENDAR
VERSION:2.0
PRODID:-//ChamberMaster//Event Calendar 2.0//EN
METHOD:PUBLISH
X-PUBLISHED-TTL:P3D
REFRESH-INTERVAL:P3D
CALSCALE:GREGORIAN
BEGIN:VEVENT
DTSTART:20140226T133000Z
DTEND:20140226T153000Z
X-MICROSOFT-CDO-ALLDAYEVENT:FALSE
SUMMARY:6th Annual Pride Breakfast
DESCRIPTION:UMKC's Division of Diversity and  Inclusion is holding the 6th Annual Pride Breakfast on Wednesday\, February 26\, 2014\, in Atterbury Student Success Center's Pierson Auditorium. Speakers will include Carol Hallquist\, president of the Hallmark Corporate Foundation. Proceeds from the event will fund emergency financial awards for LGBTQ students who have lost parental support due to their coming out as well a newly endowed scholarship fund. To learn more and to purchase a table\, please visit http://www.umkc.edu/diversity/events/pride2014/index.cfm
X-ALT-DESC;FMTTYPE=text/html:<span style="font-family:calibri\,sans-serif\;"><span style="font-size:10.0pt\;">UMKC&rsquo\;s Division of Diversity and &nbsp\;Inclusion is holding the 6<sup>th</sup> Annual Pride Breakfast on Wednesday\, February 26\, 2014\, in Atterbury Student Success Center&rsquo\;s Pierson Auditorium. Speakers will include Carol Hallquist\, president of the Hallmark Corporate Foundation. Proceeds from the event will fund emergency financial awards for LGBTQ students who have lost parental support due to their coming out as well a newly endowed scholarship fund. To learn more and to purchase a table\, please visit <a href="http://www.umkc.edu/diversity/events/pride2014/index.cfm">http://www.umkc.edu/diversity/events/pride2014/index.cfm</a></span></span>
LOCATION:UMKC Pierson Auditorium 5100 Rockhill Rd Kansas City\, MO - 64110
UID:e.1487.79
SEQUENCE:3
DTSTAMP:20260421T122726Z
URL:http://business.midamericalgbt.org/events/details/6th-annual-pride-breakfast-02-26-2014-79
END:VEVENT

END:VCALENDAR
