BEGIN:VCALENDAR
VERSION:2.0
PRODID:-//ChamberMaster//Event Calendar 2.0//EN
METHOD:PUBLISH
X-PUBLISHED-TTL:P3D
REFRESH-INTERVAL:P3D
CALSCALE:GREGORIAN
BEGIN:VEVENT
DTSTART:20140417T163000Z
DTEND:20140417T180000Z
X-MICROSOFT-CDO-ALLDAYEVENT:FALSE
SUMMARY:A Lunch Affair with R!KC
DESCRIPTION:-A Benefit for- Rehabilitation Institute of Kansas City (R!KC)\n\nWe help rebuild lives and restore hope for people with disabilities.\n\n\n\nThis annual luncheon gives attendees a unique opportunity to meet and learn about R!KC.\n\nOur goal is to develop and establish lifelong 'friends' who truly understand and support the work that we do. We want to inspire our 'friends' with the facts and stories of our organization's work.\n\n\n\nIndividual tickets are $75\n\nSponsorship Tables of 10 are $1\,250
X-ALT-DESC;FMTTYPE=text/html:-A Benefit for- Rehabilitation Institute of Kansas City (R!KC)<br />\nWe help rebuild lives and restore hope for people with disabilities.<br />\n<br />\nThis annual luncheon gives attendees a unique opportunity to meet and learn about R!KC.<br />\nOur goal is to develop and establish lifelong &#39\;friends&#39\; who truly understand and support the work that we do. We want to inspire our &#39\;friends&#39\; with the facts and stories of our organization&#39\;s work.<br />\n<br />\nIndividual tickets are $75<br />\nSponsorship Tables of 10 are $1\,250
LOCATION:Ameristar Casino 'Star Pavilion' 3200 North Ameristar Drive Kansas City\, MO 64161
UID:e.1487.96
SEQUENCE:3
DTSTAMP:20260421T093526Z
URL:http://business.midamericalgbt.org/events/details/a-lunch-affair-with-r-kc-04-17-2014-96
END:VEVENT

END:VCALENDAR
