BEGIN:VCALENDAR
VERSION:2.0
PRODID:-//ChamberMaster//Event Calendar 2.0//EN
METHOD:PUBLISH
X-PUBLISHED-TTL:P3D
REFRESH-INTERVAL:P3D
CALSCALE:GREGORIAN
BEGIN:VEVENT
DTSTART:20131206T130000Z
DTEND:20131209T030000Z
X-MICROSOFT-CDO-ALLDAYEVENT:FALSE
SUMMARY:Annual Open House
DESCRIPTION:Sam's club will be hosting the annual Open House\, we will featuring and assortmant of samples provided by our demo team. For all non-member purchases there will not be a 10% up charge\, that's right NO UP CHARGE!!! So if you have been wanting to check out your local Sam's the Open House is the time to do so!!!  Come and see what we are about and why "Life is better when your in the club" \n\n\n\nBe sure to stop by the membership desk and see what possible discounts your membership could qualify for.
X-ALT-DESC;FMTTYPE=text/html:Sam&#39\;s club will be hosting the annual Open House\, we will featuring and assortmant of samples provided by our demo team. For all non-member purchases there will not be a 10% up charge\, that&#39\;s right NO UP CHARGE!!! So if you have been wanting to check out your local Sam&#39\;s the Open House is the time to do so!!! &nbsp\;Come and see what we are about and why &quot\;Life is better when your in the club&quot\;&nbsp\;<br />\n<br />\nBe sure to stop by the membership desk and see what possible discounts your membership could qualify for.
LOCATION:
UID:e.1487.68
SEQUENCE:3
DTSTAMP:20260421T153827Z
URL:http://business.midamericalgbt.org/events/details/annual-open-house-12-06-2013-68
END:VEVENT

END:VCALENDAR
