BEGIN:VCALENDAR
VERSION:2.0
PRODID:-//ChamberMaster//Event Calendar 2.0//EN
METHOD:PUBLISH
X-PUBLISHED-TTL:P3D
REFRESH-INTERVAL:P3D
CALSCALE:GREGORIAN
BEGIN:VEVENT
DTSTART:20141113T233000Z
DTEND:20141114T013000Z
X-MICROSOFT-CDO-ALLDAYEVENT:FALSE
SUMMARY:B2B Network--November
DESCRIPTION:We apologize but online registration has closed. However\, you may register at the door this evening beginning at 5:30 pm. We hope to see you tonight at the B2B Network! \n\n\n\nJoin the Mid-America GLCC at the November B2B Network on Thursday\, November 13th\, 5:30 to 7:30 pm at Museo\, located at 3021 Main St\, Kansas City\, MO 64108. The November B2B Network is presented by Heartland Men's Chorus.\n\n\n\nDuring the evening\, you will be able to browse the modern offerings of Museo. In addition\, all guests will be able to participate in a performance with members of Heartland Men's Chorus\, led by newly-named Artistic Director Dustin S. Cates.\n\n\n\nNetwork * Make new friends * Increase your bottom line! \n\n\n\nFree for Mid-America GLCC Members. $20 each for Prospective Members. \n\n \n\nComplimentary champagne\, wine and beer provided by Heartland Men's Chorus. Delicious appetizers courtesy of Chef Touhy at Beer Kitchen.\n\n\n\nAbout our November B2B Network presenting sponsor and hosting sponsor:\n\n\n\nHeartland Men's Chorus is Kansas City's gay men's chorus\, now in their 29th season. Founded with 30 members in 1986 as a social and spiritual oasis for a community being devastated by AIDS\, the Chorus has now grown to 150 voices and is considered one of the top gay choruses in the nation from both an administrative and artistic perspective. Each season the Chorus performs three concerts at the historic Folly Theater and also at other community events and non-profit fundraisers. Another priority of the Chorus is their anti-bullying concert that they take to area elementary schools\, having reached 3\,500 students thus far. Heartland Men's Chorus is pleased to introduce their new artistic director\, Dustin S. Cates who will lead his first full concert\, "Kansas City Christmas\," on December 5\, 6 & 7.\n\n\n\nMuseo offers readily available\, high quality modern furniture\, lighting and objects. Museo painstakingly researches the furniture and lighting industry and selects from their international and domestic design partners the best in design\, both from established design leaders as well as new and upcoming designers making their mark on classic modern design.\n\n\n\n\n\nParking Information: \n\nYou may park in the parking lot directly south of Ambrosi Cutlery or the parking lot behind Museo. The parking lot behind Museo can be accessed by taking 31st Street to Walnut Street\, then head north. The parking lot will be on your left hand side about a block down Walnut St.
X-ALT-DESC;FMTTYPE=text/html:<span style="font-family:arial\;"><span style="font-size: 12px\;"><span style="color:#0000CD\;"><span style="font-size: 14px\;"><strong>We apologize but online registration has closed. However\, you may register at the door this evening beginning at 5:30 pm. We hope to see you tonight at the B2B Network! </strong></span></span><br />\n<br />\nJoin the<span style="color: rgb(89\, 89\, 89)\;"> <strong><a href="http://r20.rs6.net/tn.jsp?e=001BdFqFCxZByfpb06eGQ8LxFxdaHudgjg--CT8nsYlKLPOD6foIP0x3GmEOoqw-bRSp6pZxZOQCykYPAonoDtjJPy7enfxU5Y2NodBQQ1Q0Mf0VMuLN8zSS36Otzla6YwrOz6TnuLwwSjp87mu3cYwETcF1xZmeVzmnyVFx4l20CnE4h7LUu6TfsbeNDYqTcjweywHAlmEMrZ9f1ai2-hCIF1I1YPgy3qdbpAFu0nXEMU=" shape="rect" target="_blank"><span style="color: rgb(0\, 26\, 129)\;">Mid-America GLCC</span></a></strong> </span>at the November <strong>B2B Network</strong> on <strong>Thursday\, November 13th</strong>\, <strong>5:30 to 7:30 pm</strong><strong> </strong>at <a href="http://www.museousa.com/"><span style="color: rgb(0\, 0\, 128)\;"><strong>Museo</strong></span></a>\, located at<strong> </strong>3021 Main St\, Kansas City\, MO 64108. The November B2B Network is presented by <a href="http://www.hmckc.org"><span style="color: rgb(0\, 0\, 128)\;"><strong>Heartland Men&#39\;s Chorus</strong></span></a>.</span><br />\n<br />\nDuring the evening\, you will be able to <strong>browse the modern offerings</strong> of Museo. In addition\, all guests will be able to <strong>participate in a performance with members of Heartland Men&#39\;s Chorus</strong>\, led by newly-named Artistic Director <strong>Dustin S. Cates</strong>.<br />\n<br />\n<strong><em><span style="color: rgb(0\, 79\, 108)\;"><span style="font-size: 10pt\;">Network *</span></span><span style="color: rgb(240\, 84\, 35)\;"><span style="font-size: 10pt\;"> Make new friends</span></span><span style="color: rgb(0\, 79\, 108)\;"><span style="font-size: 10pt\;"> * </span></span><span style="color: rgb(253\, 183\, 32)\;"><span style="font-size: 10pt\;">Increase your bottom line</span></span></em></strong><strong><em><span style="color: rgb(0\, 79\, 108)\;"><span style="font-size: 10pt\;">! </span></span></em></strong><br />\n<br />\n<span style="font-size: 12px\;"><strong>Free for Mid-America GLCC Members</strong>. $20 each for Prospective Members.&nbsp\;<br />\n&nbsp\;<br />\nComplimentary champagne\, wine and beer provided by <strong>Heartland Men&#39\;s Chorus</strong>. Delicious appetizers courtesy of <strong>Chef Touhy at Beer Kitchen</strong>.<br />\n<br />\n<span style="color:#006699\;"><strong><em>About our November B2B Network presenting sponsor and hosting sponsor:</em></strong></span><br />\n<br />\n<a href="http://www.hmckc.org"><span style="color:#000080\;"><strong>Heartland Men&rsquo\;s Chorus</strong></span></a> is Kansas City&rsquo\;s gay men&rsquo\;s chorus\, now in their 29<sup>th</sup> season. Founded with 30 members in 1986 as a social and spiritual oasis for a community being devastated by AIDS\, the Chorus has now grown to 150 voices and is considered one of the top gay choruses in the nation from both an administrative and artistic perspective. Each season the Chorus performs three concerts at the historic Folly Theater and also at other community events and non-profit fundraisers. Another priority of the Chorus is their anti-bullying concert that they take to area elementary schools\, having reached 3\,500 students thus far. Heartland Men&#39\;s Chorus is pleased to introduce their new artistic director\, Dustin S. Cates who will lead his first full concert\, &ldquo\;Kansas City Christmas\,&rdquo\; on December 5\, 6 &amp\; 7.<br />\n<br />\n<a href="http://www.museousa.com/"><span style="color:#000080\;"><strong>Museo</strong></span></a> offers readily available\, high quality modern furniture\, lighting and objects. Museo painstakingly researches the furniture and lighting industry and selects from their international and domestic design partners the best in design\, both from established design leaders as well as new and upcoming designers making their mark on classic modern design.<br />\n<br />\n<br />\n<u><strong>Parking Information:</strong>&nbsp\;</u><br />\nYou may park in the parking lot directly south of Ambrosi Cutlery or the parking lot behind Museo. The parking lot behind Museo can be accessed by taking 31st Street to Walnut Street\, then head north. The parking lot will be on your left hand side about a block down Walnut St.</span></span>
LOCATION:Museo 3021 Main St. Kansas City\, MO 64108 Parking Information: You may park in the parking lot directly south of Ambrosi Cutlery or the parking lot behind Museo. The Parking lot behind Museo can be accessed by taking 31st Street to Walnut Street\, then head north. The Parking Lot will be on your left hand side about a block down Walnut.
UID:e.1487.162
SEQUENCE:3
DTSTAMP:20260420T081437Z
URL:http://business.midamericalgbt.org/events/details/b2b-network-november-11-13-2014-162
END:VEVENT

END:VCALENDAR
