BEGIN:VCALENDAR
VERSION:2.0
PRODID:-//ChamberMaster//Event Calendar 2.0//EN
METHOD:PUBLISH
X-PUBLISHED-TTL:P3D
REFRESH-INTERVAL:P3D
CALSCALE:GREGORIAN
BEGIN:VEVENT
DTSTART:20140122T230000Z
DTEND:20140123T010000Z
X-MICROSOFT-CDO-ALLDAYEVENT:FALSE
SUMMARY:Bryan Cave and Mid-America GLCC Family Equality Council Reception
DESCRIPTION:Bryan Cave and the MAGLCC will host a reception with the Family Equality Council\, on whose behalf Bryan Cave lawyers filed amicus briefs to the Supreme Court in the United States v. Windsor case\, which challenged the Defense of Marriage Act (DOMA)\, and Hollingsworth v. Perry\, which challenged California's constitutional amendment limiting marriage to heterosexual unions. For further details on these briefs\, click here: http://www.bryancave.com/newsevents/news/Detail.aspx?news=4226. Family Equality Council's Executive Director Gabriel Blau and representatives of Bryan Cave's LGBT Affinity Group will attend the reception to speak about the decisions.\n\n\n\nFor more details and to register for this event\, click here: http://root.bryancavemedia.com/marketing/evite/13-10-049/KC_E-vite.html\n\n\n\nPARKING INFO:\n\nYou may enter the One Kansas City Place Parking Garage on the Main Street or Baltimore side of the building between 12th and 13th Streets.  Please pull a ticket\, and bring it up with you for validation.  You may park in any spot marked either\, BC Client\, Visitor or Non-Reserved.  The majority of non-reserved parking is on the S4 and S5 lower levels\, but there is also ample parking on the upper levels.
X-ALT-DESC;FMTTYPE=text/html:Bryan Cave and the MAGLCC will host a reception with the Family Equality Council\, on whose behalf&nbsp\;Bryan Cave lawyers&nbsp\;filed amicus briefs to the Supreme Court in the <em>United States&nbsp\;v. Windsor </em>case\, which challenged the Defense of Marriage Act (DOMA)\, and <em>Hollingsworth v. Perry</em>\, which challenged California&#39\;s constitutional amendment limiting marriage to heterosexual unions. For further details on these briefs\, click here: <a href="http://www.bryancave.com/newsevents/news/Detail.aspx?news=4226">http://www.bryancave.com/newsevents/news/Detail.aspx?news=4226</a>. Family Equality Council&#39\;s Executive Director Gabriel Blau and&nbsp\;representatives of&nbsp\;Bryan Cave&#39\;s LGBT Affinity Group will attend the reception to speak about the decisions.<br />\n<br />\nFor more details and to register for this event\, click here: <a href="http://root.bryancavemedia.com/marketing/evite/13-10-049/KC_E-vite.html">http://root.bryancavemedia.com/marketing/evite/13-10-049/KC_E-vite.html</a><br />\n<br />\nPARKING INFO:<br />\n<span style="font-size:14px\;"><span style="color: black\;"><span style="font-family: arial\,sans-serif\;">You may enter the One Kansas City Place Parking Garage on the Main Street or Baltimore side of the building between 12<sup>th</sup> and 13<sup>th</sup> Streets.&nbsp\; Please pull a ticket\, and bring it up with you for validation.&nbsp\; You may park in any spot marked either\, BC Client\, Visitor or Non-Reserved.&nbsp\; The majority of non-reserved parking is on the S4 and S5 lower levels\, but there is also ample parking on the upper levels.</span></span></span><br />\n
LOCATION:Bryan Cave LLP 1200 Main\, 38th Floor Kansas City\, MO PARKING INFO: You may enter the One Kansas City Place Parking Garage on the Main Street or Baltimore side of the building between 12th and 13th Streets. Please pull a ticket\, and bring it up with you for validation. You may park in any spot marked either\, BC Client\, Visitor or Non-Reserved. The majority of non-reserved parking is on the S4 and S5 lower levels\, but there is also ample parking on the upper levels.
UID:e.1487.77
SEQUENCE:3
DTSTAMP:20260421T135554Z
URL:http://business.midamericalgbt.org/events/details/bryan-cave-and-mid-america-glcc-family-equality-council-reception-01-22-2014-77
END:VEVENT

END:VCALENDAR
