BEGIN:VCALENDAR
VERSION:2.0
PRODID:-//ChamberMaster//Event Calendar 2.0//EN
METHOD:PUBLISH
X-PUBLISHED-TTL:P3D
REFRESH-INTERVAL:P3D
CALSCALE:GREGORIAN
BEGIN:VEVENT
DTSTART:20140101T010000Z
DTEND:20140101T083000Z
X-MICROSOFT-CDO-ALLDAYEVENT:FALSE
SUMMARY:EVE: Experience the Kauffman Center like never before with this iconic New Year's Eve party!
DESCRIPTION:Experience the Kauffman Center like never before! Celebrate New Year's EVE in iconic style at the Kauffman Center\, with unlimited food and drink\, eclectic and exciting performances throughout the building and the evening\, and so much more. At EVE\, you can choose your experience. Three distinct ticket packages allow you to decide how you'd like to spend your night. Get your tickets now for the hottest party of the year!
X-ALT-DESC;FMTTYPE=text/html:<span style="color: rgb(51\, 51\, 51)\; font-family: Arial\, Helvetica\, sans-serif\; line-height: 17px\;"><strong>Experience the Kauffman Center like never before! </strong>Celebrate New Year&rsquo\;s EVE in iconic style at the Kauffman Center\, with unlimited food and drink\, eclectic and exciting performances throughout the building and the evening\, and so much more. At EVE\, you can choose your experience. Three distinct ticket packages allow you to decide how you&rsquo\;d like to spend your night. Get your tickets now for the hottest party of the year!</span>
LOCATION:The Kauffman Center for the Performing Arts
UID:e.1487.59
SEQUENCE:3
DTSTAMP:20260421T135727Z
URL:http://business.midamericalgbt.org/events/details/eve-experience-the-kauffman-center-like-never-before-with-this-iconic-new-year-s-eve-party-12-31-2013-59
END:VEVENT

END:VCALENDAR
