BEGIN:VCALENDAR
VERSION:2.0
PRODID:-//ChamberMaster//Event Calendar 2.0//EN
METHOD:PUBLISH
X-PUBLISHED-TTL:P3D
REFRESH-INTERVAL:P3D
CALSCALE:GREGORIAN
BEGIN:VEVENT
DTSTART:20131206T230000Z
DTEND:20131207T040000Z
X-MICROSOFT-CDO-ALLDAYEVENT:FALSE
SUMMARY:Event at Michael Molick Studio & Gallery\, LLC
DESCRIPTION:Live music AND First Friday!  Music provided by Rebecca Nixon Sidener from 7-9.\n\n\n\nNew work from my series Meditations and Spiritual Awakening will be shown and available.\n\n\n\nI hope you're able to stop by and say hi!
X-ALT-DESC;FMTTYPE=text/html:<span style="font-size:14px\;">Live music AND First Friday! &nbsp\;Music provided by Rebecca Nixon Sidener from 7-9.<br />\n<br />\nNew work from my series&nbsp\;<em>Meditations and Spiritual Awakening</em> will be shown and available.<br />\n<br />\nI hope you&#39\;re able to stop by and say hi!</span>
LOCATION:The Bauer\, Studio 304 115 W. 18th St.\, KCM 64108
UID:e.1487.67
SEQUENCE:3
DTSTAMP:20260421T151236Z
URL:http://business.midamericalgbt.org/events/details/event-at-michael-molick-studio-gallery-llc-12-06-2013-67
END:VEVENT

END:VCALENDAR
