BEGIN:VCALENDAR
VERSION:2.0
PRODID:-//ChamberMaster//Event Calendar 2.0//EN
METHOD:PUBLISH
X-PUBLISHED-TTL:P3D
REFRESH-INTERVAL:P3D
CALSCALE:GREGORIAN
BEGIN:VEVENT
DTSTART;VALUE=DATE:20140126
DTEND;VALUE=DATE:20140127
TRANSP:TRANSPARENT
X-MICROSOFT-CDO-ALLDAYEVENT:TRUE
SUMMARY:Event at Scott Harvey Real Estate Services LLC
DESCRIPTION:
X-ALT-DESC;FMTTYPE=text/html:
LOCATION:In Kansas City on Sunday January 26th? We're helping MGRA Missouri Gay Rodeo Association with a fundraiser! YEEEHAW! Mr. April 2014 "Gator" from our FULL NUDE "Cowboy Sunsets" charity calendar will be happy to autograph your 2014 charity calendars on Sunday 1/26/14 at 7PM at Missie B's in KC MO. Stop by and pick up your autographed calendars and have him personalize your 2014 "COWBOY SUNSETS" charity calendar and ask about what it takes to try out for our 2015 "COWBOY NIGHTS" charity calendar.
UID:e.1487.81
SEQUENCE:3
DTSTAMP:20260421T135432Z
URL:http://business.midamericalgbt.org/events/details/event-at-scott-harvey-real-estate-services-llc-01-26-2014-81
END:VEVENT

END:VCALENDAR
