BEGIN:VCALENDAR
VERSION:2.0
PRODID:-//ChamberMaster//Event Calendar 2.0//EN
METHOD:PUBLISH
X-PUBLISHED-TTL:P3D
REFRESH-INTERVAL:P3D
CALSCALE:GREGORIAN
BEGIN:VEVENT
DTSTART:20140209T013000Z
DTEND:20140209T040000Z
X-MICROSOFT-CDO-ALLDAYEVENT:FALSE
SUMMARY:Event at Sidekicks Saloon 3701 Main Street Kansaas City MO 64111
DESCRIPTION:
X-ALT-DESC;FMTTYPE=text/html:
LOCATION:Sidekicks Saloon 3707 Main Street Kansas City MO 64111
UID:e.1487.83
SEQUENCE:3
DTSTAMP:20260421T123012Z
URL:http://business.midamericalgbt.org/events/details/event-at-sidekicks-saloon-3701-main-street-kansaas-city-mo-64111-02-08-2014-83
END:VEVENT

END:VCALENDAR
