BEGIN:VCALENDAR
VERSION:2.0
PRODID:-//ChamberMaster//Event Calendar 2.0//EN
METHOD:PUBLISH
X-PUBLISHED-TTL:P3D
REFRESH-INTERVAL:P3D
CALSCALE:GREGORIAN
BEGIN:VEVENT
DTSTART;VALUE=DATE:20140531
DTEND;VALUE=DATE:20140601
TRANSP:TRANSPARENT
X-MICROSOFT-CDO-ALLDAYEVENT:TRUE
SUMMARY:Family Day in the Park
DESCRIPTION:Family Day in the Park - All are welcome!!!\n\n*Music\n\n*Face Painting\n\n*Fire Truck\n\n*Ice Cream\n\n*Coloring\n\n*Story Time\n\n\n\n\n\n\n\nSponsored by HRC & PROMO
X-ALT-DESC;FMTTYPE=text/html:Family Day in the Park - All are welcome!!!<br />\n*Music<br />\n*Face Painting<br />\n*Fire Truck<br />\n*Ice Cream<br />\n*Coloring<br />\n*Story Time<br />\n<br />\n<br />\n<br />\nSponsored by HRC &amp\; PROMO
LOCATION:Loose Park Pavillion 5200 Pennsylvania Avenue Kansas City\, MO 64112
UID:e.1487.110
SEQUENCE:3
DTSTAMP:20260421T081410Z
URL:http://business.midamericalgbt.org/events/details/family-day-in-the-park-05-31-2014-110
END:VEVENT

END:VCALENDAR
