BEGIN:VCALENDAR
VERSION:2.0
PRODID:-//ChamberMaster//Event Calendar 2.0//EN
METHOD:PUBLISH
X-PUBLISHED-TTL:P3D
REFRESH-INTERVAL:P3D
CALSCALE:GREGORIAN
BEGIN:VEVENT
DTSTART:20140404T230000Z
DTEND:20140405T030000Z
X-MICROSOFT-CDO-ALLDAYEVENT:FALSE
SUMMARY:FIRST FRIDAY--APRIL 4\, 2014 at Michael Molick Studio & Gallery\, LLC
DESCRIPTION:SPRING IS HERE!  Want to finally see some color ?  Maybe add some new color in your home?  Or\, just stop by and say 'hi!'   Come see me at my STUDIO & GALLERY at The Bauer\, Studio 304 / 115 W. 18th Street / KCM 64108 from 6 - 10 P.M.\n\nmichael.molick@gmail.com / 708-476-1865 / www.michaelmolick.com / www.xanadugallery.com\n\n\n\nThere's also a bohemian art market on the 3rd floor (that's MY floor!) that evening. \n\n\n\nART EXPLORATION WORKSHOP:  Have you ever wanted to slap some paint on a canvas?  Have you ever been told you're not an artist?  Well\, put your big-kid pants on and come take my workshop!  This class is designed for you.  All materials are included.  Classes are offered the 4 Mondays of April or the 5 Wednesdays of April (the 5th is a bonus!) from 6-8:30 (flexible).  If you take the Wednesday class\, which starts this week\, I'll owe you a week.\n\nRegistration is $120--not bad for a good time and some creative outlet.  MAGLCC members receive a 10% discount!
X-ALT-DESC;FMTTYPE=text/html:<strong>SPRING IS HERE!&nbsp\;</strong> Want to finally see some color ?&nbsp\; Maybe add some new color in your home?&nbsp\; Or\, just stop by and say &#39\;hi!&#39\;&nbsp\;&nbsp\; Come see me at my STUDIO &amp\; GALLERY at The Bauer\, Studio 304 / 115 W. 18th Street / KCM 64108 from 6 - 10 P.M.<br />\nmichael.molick@gmail.com / 708-476-1865 / www.michaelmolick.com / www.xanadugallery.com<br />\n<br />\nThere&#39\;s also a bohemian art market on the 3rd floor (that&#39\;s MY floor!) that evening.&nbsp\;<br />\n<br />\n<strong>ART EXPLORATION WORKSHOP:&nbsp\; </strong>Have you ever wanted to slap some paint on a canvas?&nbsp\; Have you ever been told you&#39\;re not an artist?&nbsp\; Well\, <strong>put your big-kid pants on</strong> and come take my workshop!&nbsp\; This class is designed for you.&nbsp\; All materials are included.&nbsp\; Classes are offered the 4 Mondays of April or the 5 Wednesdays of April (the 5th is a bonus!) from 6-8:30 (flexible).&nbsp\; If you take the Wednesday class\, which starts this week\, I&#39\;ll owe you a week.<br />\nRegistration is $120--not bad for a good time and some creative outlet.&nbsp\; MAGLCC members receive a 10% discount!
LOCATION:The Bauer\, Studio 304 115 W. 18th Street KCM 64108
UID:e.1487.106
SEQUENCE:3
DTSTAMP:20260421T082103Z
URL:http://business.midamericalgbt.org/events/details/first-friday-april-4-2014-at-michael-molick-studio-gallery-llc-04-04-2014-106
END:VEVENT

END:VCALENDAR
