BEGIN:VCALENDAR
VERSION:2.0
PRODID:-//ChamberMaster//Event Calendar 2.0//EN
METHOD:PUBLISH
X-PUBLISHED-TTL:P3D
REFRESH-INTERVAL:P3D
CALSCALE:GREGORIAN
BEGIN:VEVENT
DTSTART:20140330T010000Z
DTEND:20140330T210000Z
X-MICROSOFT-CDO-ALLDAYEVENT:FALSE
SUMMARY:Heartland Men's Chorus: "I Am Harvey Milk"
DESCRIPTION:"You gotta give 'em hope\," said a voice that would too soon be quieted by an assassin's bullet.Gateway Men's Chorus from St. Louis joins Heartland Men's Chorus in this gripping concert celebrating the man\, the hero and the lasting power his words and actions would have on all of us. Written by Tony and Grammy Award nominated composer Andrew Lippa and co-commissioned by Heartland Men's Chorus\, I Am Harvey Milk tells the moving story of Milk's life from his childhood to his rise as the first gay man to hold public office in California to his assassination.
X-ALT-DESC;FMTTYPE=text/html:<span style="color:black\;">&ldquo\;You gotta give &lsquo\;em hope\,&rdquo\; said a voice that would too soon be quieted by an assassin&rsquo\;s bullet.Gateway Men&rsquo\;s Chorus from St. Louis joins Heartland Men&#39\;s Chorus in this gripping concert celebrating the man\, the hero and the lasting power his words and actions would have on all of us. Written by Tony and Grammy Award nominated composer Andrew Lippa and co-commissioned by Heartland Men&rsquo\;s Chorus\, I Am Harvey Milk tells the moving story of Milk&rsquo\;s life&mdash\;from his childhood to his rise as the first gay man to hold public office in California to his assassination.</span><br />\n
LOCATION:Folly Theater 300 West 12th Street\, Kansas City\, Missouri
UID:e.1487.85
SEQUENCE:3
DTSTAMP:20260421T111326Z
URL:http://business.midamericalgbt.org/events/details/heartland-men-s-chorus-i-am-harvey-milk-03-29-2014-85
END:VEVENT

END:VCALENDAR
