BEGIN:VCALENDAR
VERSION:2.0
PRODID:-//ChamberMaster//Event Calendar 2.0//EN
METHOD:PUBLISH
X-PUBLISHED-TTL:P3D
REFRESH-INTERVAL:P3D
CALSCALE:GREGORIAN
BEGIN:VEVENT
DTSTART:20131212T230000Z
DTEND:20131213T003000Z
X-MICROSOFT-CDO-ALLDAYEVENT:FALSE
SUMMARY:Holiday Shopping at Stuff for AIDS WALK 2014!
DESCRIPTION:We hope you'll join us for the 3rd annual AIDS WALK holiday shopping night at Stuff in Brookside on Thursday\, December 12th\, 5:00 to 6:30 pm!\n\n\n\nAIDS WALK is thrilled to partner with Stuff and help raise money for the local fight against HIV/AIDS while shopping for the holidays! 15% of sales that evening benefit AIDS WALK Kansas City 2014.\n\n\n\nWe hope you'll join AIDS WALK at Stuff on December 12th!
X-ALT-DESC;FMTTYPE=text/html:<span itemprop="description"><span class="fsl">We hope you&#39\;ll join us for the 3rd annual AIDS WALK holiday shopping night at Stuff in Brookside on Thursday\, December 12th\, 5:00 to 6:30 pm!<br />\n<br />\nAIDS WALK is thrilled to partner with Stuff and help raise money for the local fight against HIV/AIDS while shopping for the holidays! 15% of sales that evening benefit AIDS WALK Kansas City 2014.<br />\n<br />\nWe hope you&#39\;ll join AIDS WALK at Stuff on December 12th! </span></span>
LOCATION:Stuff in Brookside 316 West 63rd St Kansas City\, MO
UID:e.1487.64
SEQUENCE:3
DTSTAMP:20260421T152235Z
URL:http://business.midamericalgbt.org/events/details/holiday-shopping-at-stuff-for-aids-walk-2014-12-12-2013-64
END:VEVENT

END:VCALENDAR
