BEGIN:VCALENDAR
VERSION:2.0
PRODID:-//ChamberMaster//Event Calendar 2.0//EN
METHOD:PUBLISH
X-PUBLISHED-TTL:P3D
REFRESH-INTERVAL:P3D
CALSCALE:GREGORIAN
BEGIN:VEVENT
DTSTART:20140518T210000Z
DTEND:20140519T010000Z
X-MICROSOFT-CDO-ALLDAYEVENT:FALSE
SUMMARY:House Party 3
DESCRIPTION:Join AIDS WALK Kansas City for House Party III on Sunday\, May 18th\, 4 to 8 pm!\n\n\n\nHeld at the beautiful home of Mike Meier\, House Party III will feature a great Sunday afternoon of live music\, silent auction\, delicious food\, refreshing cocktails and more!\n\n\n\nLive Performances by Late Night Theatre and Live Jazz by Mark Lowrey!\n\n\n\nGA Tickets are only $50 each or $75 for two tickets (save $12.50 each!).\n\n\n\nVIP Tickets are $75 each or $125 for two tickets (VIP Reception will be held from 3 to 4 pm)\n\n\n\nGet your tickets today!\n\nhttp://houseparty3.eventbrite.com/\n\n\n\nJoin the House Party on May 18th!\n\n\n\nHosts:\n\n\n\nMike Meier\, Event Host\n\nRyan Gove & Doug Swink\, AIDS WALK Co-Chairs\n\nDean Cox & Bryan McQueen\, AIDS WALK Co-Chairs\n\nRob Adams\n\nRon Megee & Jon Fulton Adams\n\nAbby & Doug Albers\n\nAndre du Broc & Dan Briardy\n\nDan Meiners & David Brinkerhoff\n\nChadwick Brooks\n\nSpencer Brown\n\nTom Suther & Kevin Bryant\n\nDerrick Bachman & Shaun Bryant\n\nDr. Timothy A. Buckenmyer\n\nThe Col. Steve & Mitzi Cardenas\, Ret.\n\nMike McTavish & Dan Chancellor\n\nCatherine Kelly and Julia Chekanova\n\nJeff Church\n\nMike Enos\n\nJanie & Gary Foltz\n\nAdam Gebhardt\n\nJim Giles\n\nMike Hopkins\n\nAnn & Ron Hron\n\nLaurie & Chip Ingram\n\nShawn Mullane & Brad Johnson\n\nDamian Lair\n\nBrian Williams & Steve Metzler\n\nJoshua Minnis\n\nFenton & Ann Molloy\n\nDavid Wiley & Tom Nagel\n\nTerry Newell\n\nDan Nilsen\n\nDarren Thomas & Josh Peterson\n\nMichael Lintecum & John Pinkerton\n\nTodd Gangel & John Price\n\nGene Switzer & Jeffrey Schmitz\n\nBernard Shondell\n\nDanny Zaslavsky & Mark Stahl\n\nCody Kaifes & Josh Strodtman\n\nMissy Koonce & Stacie Wiechman
X-ALT-DESC;FMTTYPE=text/html:<span class="fsl">Join AIDS WALK Kansas City for <strong>House Party III on Sunday\, May 18th\, 4 to 8 pm!</strong><br />\n<br />\nHeld at the beautiful home of Mike Meier\, House Party III will feature a great Sunday afternoon of live music\, silent auction\, delicious food\, refreshing cocktails and more!<br />\n<br />\nLive Performances by Late Night Theatre and Live Ja<span class="text_exposed_show">zz by Mark Lowrey!<br />\n<br />\nGA Tickets are only $50 each or $75 for two tickets (save $12.50 each!).<br />\n<br />\nVIP Tickets are $75 each or $125 for two tickets (VIP Reception will be held from 3 to 4 pm)<br />\n<br />\nGet your tickets today!<br />\n<a href="http://l.facebook.com/l.php?u=http%3A%2F%2Fhouseparty3.eventbrite.com%2F&amp\;h=WAQGQ-J0L&amp\;enc=AZMnuHSMghzqX96OyK6AYrsbzyI2Dj0AcrspuX9NtBfQxaM09o6WLZr_IdkNsL0U180&amp\;s=1" rel="nofollow nofollow" target="_blank"><span>http://</span><wbr />houseparty3.eventbrite.com/</a><br />\n<br />\nJoin the House Party on May 18th!<br />\n<br />\n<u><strong>Hosts:</strong></u><br />\n<br />\nMike Meier\, Event Host<br />\nRyan Gove &amp\; Doug Swink\, AIDS WALK Co-Chairs<br />\nDean Cox &amp\; Bryan McQueen\, AIDS WALK Co-Chairs<br />\nRob Adams<br />\nRon Megee &amp\; Jon Fulton Adams<br />\nAbby &amp\; Doug Albers<br />\nAndre du Broc &amp\; Dan Briardy<br />\nDan Meiners &amp\; David Brinkerhoff<br />\nChadwick Brooks<br />\nSpencer Brown<br />\nTom Suther &amp\; Kevin Bryant<br />\nDerrick Bachman &amp\; Shaun Bryant<br />\nDr. Timothy A. Buckenmyer<br />\nThe Col. Steve &amp\; Mitzi Cardenas\, Ret.<br />\nMike McTavish &amp\; Dan Chancellor<br />\nCatherine Kelly and Julia Chekanova<br />\nJeff Church<br />\nMike Enos<br />\nJanie &amp\; Gary Foltz<br />\nAdam Gebhardt<br />\nJim Giles<br />\nMike Hopkins<br />\nAnn &amp\; Ron Hron<br />\nLaurie &amp\; Chip Ingram<br />\nShawn Mullane &amp\; Brad Johnson<br />\nDamian Lair<br />\nBrian Williams &amp\; Steve Metzler<br />\nJoshua Minnis<br />\nFenton &amp\; Ann Molloy<br />\nDavid Wiley &amp\; Tom Nagel<br />\nTerry Newell<br />\nDan Nilsen<br />\nDarren Thomas &amp\; Josh Peterson<br />\nMichael Lintecum &amp\; John Pinkerton<br />\nTodd Gangel &amp\; John Price<br />\nGene Switzer &amp\; Jeffrey Schmitz<br />\nBernard Shondell<br />\nDanny Zaslavsky &amp\; Mark Stahl<br />\nCody Kaifes &amp\; Josh Strodtman<br />\nMissy Koonce &amp\; Stacie Wiechman</span></span>
LOCATION:Home of Mike Meier 1020 W. Meyer Blvd. Kansas City\, MO
UID:e.1487.118
SEQUENCE:3
DTSTAMP:20260421T080043Z
URL:http://business.midamericalgbt.org/events/details/house-party-3-05-18-2014-118
END:VEVENT

END:VCALENDAR
