BEGIN:VCALENDAR
VERSION:2.0
PRODID:-//ChamberMaster//Event Calendar 2.0//EN
METHOD:PUBLISH
X-PUBLISHED-TTL:P3D
REFRESH-INTERVAL:P3D
CALSCALE:GREGORIAN
BEGIN:VEVENT
DTSTART:20140225T210000Z
DTEND:20140226T000000Z
X-MICROSOFT-CDO-ALLDAYEVENT:FALSE
SUMMARY:Job Fair at Ameristar Casino Kansas City
DESCRIPTION:Ameristar Casino Hotel Kansas City will be hiring 45 full and time part-time team members\, including several supervisory positions in food and beverage\, casino operations\, security and revenue audit. Other positions include cooks\, beverage servers\, table games dealers\, cage cashiers\, security officers and bartenders.\n\nAnyone who is looking for a fun-filled environment in which to work and who possesses a winning personality are encouraged to attend. Hiring managers will be available to conduct interviews. \n\nApplicants are encouraged to apply online at Ameristar.com/careers prior to attending the career fair. Interviews will be conducted at the job fair and job offers may be made on-the-spot for the majority of the positions. Applicants may also bring resumes.  Visit our website for a complete list of available positions.
X-ALT-DESC;FMTTYPE=text/html:<p class="MsoNormal" style="text-align: justify\; line-height: 150%\; margin: 0in 0in 0pt\; mso-layout-grid-align: none"><font face="Arial"><strong><span style="line-height: 150%\; font-family: 'Arial'\, 'sans-serif'\; color: black\; font-size: 11pt\; font-weight: normal\; mso-themecolor: text1\; mso-bidi-font-style: italic\; mso-bidi-font-weight: bold">Ameristar Casino Hotel Kansas City will be hiring 45 full and time part-time team members\, including several supervisory positions in food and beverage\, casino operations\, security and revenue audit. Other positions include cooks\, beverage servers\, table games dealers\, cage cashiers\, security officers and bartenders.<o:p></o:p></span></strong></font></p>\n\n<p class="MsoNormal" style="text-align: justify\; line-height: 150%\; margin: 0in 0in 0pt\; mso-layout-grid-align: none"><strong><span style="line-height: 150%\; font-family: 'Arial'\, 'sans-serif'\; color: black\; font-size: 11pt\; font-weight: normal\; mso-themecolor: text1\; mso-bidi-font-style: italic\; mso-bidi-font-weight: bold">Anyone who is looking for a fun-filled environment in which to work and who possesses a winning personality are encouraged to attend. Hiring managers will be available to conduct interviews.</span></strong><strong><span style="line-height: 150%\; font-family: 'Arial'\, 'sans-serif'\; color: black\; font-size: 11pt\; mso-themecolor: text1\; mso-bidi-font-style: italic"><o:p>&nbsp\;</o:p></span></strong></p>\n\n<p class="MsoNormal" style="text-align: justify\; line-height: 150%\; margin: 0in 0in 0pt"><strong><span style="line-height: 150%\; font-family: 'Arial'\, 'sans-serif'\; color: black\; font-size: 11pt\; font-weight: normal\; mso-themecolor: text1\; mso-bidi-font-style: italic\; mso-bidi-font-weight: bold">Applicants are encouraged to apply online at </span></strong><a href="https://www.ameristar.com/Career_Opportunities.aspx"><span style="line-height: 150%\; font-family: 'Arial'\, 'sans-serif'\; font-size: 11pt\; mso-bidi-font-style: italic">Ameristar.com/careers</span></a>&nbsp\;<strong><span style="line-height: 150%\; font-family: 'Arial'\, 'sans-serif'\; color: black\; font-size: 11pt\; font-weight: normal\; mso-themecolor: text1\; mso-bidi-font-style: italic\; mso-bidi-font-weight: bold">prior to attending the career fair. </span></strong><span style="line-height: 150%\; font-family: 'Arial'\, 'sans-serif'\; color: black\; font-size: 11pt\; mso-themecolor: text1">Interviews will be conducted at the job fair and job offers may be made on-the-spot for the majority of the positions. Applicants may also bring resumes.&nbsp\; Visit our website for a complete list of available positions.<o:p></o:p></span></p>\n\n<p class="MsoNormal" style="margin: 0in 0in 0pt"><span style="font-family: 'Arial'\, 'sans-serif'\; color: #1f497d\; font-size: 11pt"><o:p>&nbsp\;</o:p></span></p>\n
LOCATION:Depot #9\, Ameristar Casino Hotel Kansas City\, 3200 N. Ameristar Drive\, Kansas City\, Mo.\, 64161\, conveniently located off Missouri Highway 210\, just east of Interstate 435.
UID:e.1487.100
SEQUENCE:3
DTSTAMP:20260421T123317Z
URL:http://business.midamericalgbt.org/events/details/job-fair-at-ameristar-casino-kansas-city-02-25-2014-100
END:VEVENT

END:VCALENDAR
