BEGIN:VCALENDAR
VERSION:2.0
PRODID:-//ChamberMaster//Event Calendar 2.0//EN
METHOD:PUBLISH
X-PUBLISHED-TTL:P3D
REFRESH-INTERVAL:P3D
CALSCALE:GREGORIAN
BEGIN:VEVENT
DTSTART:20140429T123000Z
DTEND:20140429T140000Z
X-MICROSOFT-CDO-ALLDAYEVENT:FALSE
SUMMARY:MasterMinds--April
DESCRIPTION:The Mid-America Gay & Lesbian Chamber of Commerce would like to invite you to the April MasterMinds Session on Tuesday\, April 29th\, 7:30 am to 9:00 am at Bishop-McCann\, 1701 Walnut\, Kansas City\, MO. Erica Brune\, President at Lever1\, will present on the following business challenge:\n\n \n\nLever1 provides quality Payroll\, HR and Employee Benefit OUTSOURCING services to business. Outsourcing has a negative connotation and many business owners do not want to consider outsourcing for many reasons. What can Lever1 due to combat the perceived negativity of outsourcing?  \n\n\n\nIf you are interested in attending please register by clicking on the "REGISTER" button above. Space is limited so please RSVP early. Also\, if you are interested in more information on the MasterMinds concept\, visit http://maglcc.org/pages/MasterMinds/.\n\n\n\nWe hope to see you at MasterMinds on Tuesday\, April 29th!\n\n \n\nFor more information on Lever1\, visit www.lever1.com.
X-ALT-DESC;FMTTYPE=text/html:<span style="font-size: 11px\;"><span style="font-family: arial\;"><span style="font-size: 12px\;">The Mid-America Gay &amp\; Lesbian Chamber of Commerce would like to invite you to the April <strong>MasterMinds Session <span style="font-weight: normal\;">on </span></strong><strong>Tuesday\, April 29th\,</strong> <strong>7:30 am to 9:00 am</strong> at <strong>Bishop-McCann</strong>\, 1701 Walnut\, Kansas City\, MO<strong>.</strong> <strong>Erica Brune</strong><strong><span style="font-weight: normal\;">\, <em>President </em>at </span></strong><strong>Lever1</strong><strong><span style="font-weight: normal\;">\,</span></strong> <strong><span style="font-weight: normal\;">will</span></strong> present on the following business challenge:<br />\n&nbsp\;<br />\n<em>Lever1 provides quality Payroll\, HR and Employee Benefit OUTSOURCING services to business. Outsourcing has a negative connotation and many business owners do not want to consider outsourcing for many reasons.</em> <em>What can Lever1 due to combat the perceived negativity of outsourcing? </em>&nbsp\;<br />\n<br />\nIf you are interested in attending please <strong>register by clicking on the &quot\;REGISTER&quot\; button above. </strong>Space is limited so please RSVP early. Also\, if you are interested in more information on the MasterMinds concept\, visit <a href="http://maglcc.org/pages/MasterMinds/">http://maglcc.org/pages/MasterMinds/</a>.<br />\n<br />\nWe hope to see you at MasterMinds on Tuesday\, April 29<sup>th</sup>!<br />\n&nbsp\;<br />\nFor more information on Lever1\, visit <span style="color: rgb(31\, 73\, 125)\;"><a href="http://www.lever1.com">www.lever1.com</a>. </span></span></span></span><br />\n&nbsp\;
LOCATION:Bishop-McCann 1701 Walnut Kansas City\, MO 64108
UID:e.1487.101
SEQUENCE:3
DTSTAMP:20260421T092845Z
URL:http://business.midamericalgbt.org/events/details/masterminds-april-04-29-2014-101
END:VEVENT

END:VCALENDAR
