BEGIN:VCALENDAR
VERSION:2.0
PRODID:-//ChamberMaster//Event Calendar 2.0//EN
METHOD:PUBLISH
X-PUBLISHED-TTL:P3D
REFRESH-INTERVAL:P3D
CALSCALE:GREGORIAN
BEGIN:VEVENT
DTSTART:20140225T133000Z
DTEND:20140225T150000Z
X-MICROSOFT-CDO-ALLDAYEVENT:FALSE
SUMMARY:MasterMinds--February
DESCRIPTION:The Mid-America Gay & Lesbian Chamber of Commerce would like to invite you to the February MasterMinds Session on Tuesday\, February 25th\, 7:30 am to 9:00 am at Bishop-McCann\, 1701 Walnut\, Kansas City\, MO. Kevin will present on the issue of becoming a stronger sales person and closing the sales deal.  Everyone from sales associates to business owners will benefit from the insight and experience Kevin will bring to the morning's discussion.\n\n\n\n\n\nIf you are interested in attending please register by clicking on the link above. Space is limited so please RSVP early. Also\, if you are interested in more information on the MasterMinds concept\, visit http://maglcc.org/pages/MasterMinds/.\n\nWe hope to see you at MasterMinds!\n\n\n\n(MasterMinds is limited to Members of the Mid-America GLCC)
X-ALT-DESC;FMTTYPE=text/html:<span style="font-size:12px\;"><span style="font-family: arial\;">The Mid-America Gay &amp\; Lesbian Chamber of Commerce would like to invite you to the February <strong>MasterMinds Session </strong>on <strong>Tuesday\, February 25th\,</strong> <strong>7:30 am to 9:00 am</strong> at <strong>Bishop-McCann</strong>\, 1701 Walnut\, Kansas City\, MO. Kevin will present on the issue of <strong>becoming a stronger sales person and closing the sales deal.&nbsp\;</strong> Everyone from sales associates to business owners will benefit from the insight and experience Kevin will bring to the morning&rsquo\;s discussion.<br />\n<br />\n<br />\nIf you are interested in attending please <strong>register by clicking on the link above.</strong> Space is limited so please RSVP early. Also\, if you are interested in more information on the MasterMinds concept\, visit <a href="http://maglcc.org/pages/MasterMinds/">http://maglcc.org/pages/MasterMinds/</a>.<br />\nWe hope to see you at MasterMinds!<br />\n<br />\n(MasterMinds is limited to Members of the Mid-America GLCC)</span></span>
LOCATION:Bishop-McCann 1701 Walnut Kansas City\, MO 64108
UID:e.1487.87
SEQUENCE:3
DTSTAMP:20260421T122708Z
URL:http://business.midamericalgbt.org/events/details/masterminds-february-02-25-2014-87
END:VEVENT

END:VCALENDAR
