BEGIN:VCALENDAR
VERSION:2.0
PRODID:-//ChamberMaster//Event Calendar 2.0//EN
METHOD:PUBLISH
X-PUBLISHED-TTL:P3D
REFRESH-INTERVAL:P3D
CALSCALE:GREGORIAN
BEGIN:VEVENT
DTSTART:20140128T133000Z
DTEND:20140128T150000Z
X-MICROSOFT-CDO-ALLDAYEVENT:FALSE
SUMMARY:MasterMinds--January
DESCRIPTION:The Mid-America Gay & Lesbian Chamber of Commerce would like to invite you to the January MasterMinds Session on Tuesday\, January 28th\, 7:30 am to 9:00 am at Bishop-McCann\, 1701 Walnut\, Kansas City\, MO. . Paul Russell\, Founder and Owner of ej4\, LLC\, will present on the topic of Dealing With an Extended Sales Cycle. If you work in the sales world you will not want to miss this presentation!\n\n\n\nIf you are interested in attending please register by clicking on the link above. Space is limited so please RSVP early. Also\, if you are interested in more information on the MasterMinds concept\, visit http://maglcc.org/pages/MasterMinds/.\n\n\n\nWe hope to see you at MasterMinds!\n\n\n\n(MasterMinds is limited to Members of the Mid-America GLCC)
X-ALT-DESC;FMTTYPE=text/html:<span style="font-size:12px\;"><span style="font-family: arial\;">The Mid-America Gay &amp\; Lesbian Chamber of Commerce would like to invite you to the January <strong>MasterMinds Session </strong>on <strong>Tuesday\, January 28th\,</strong> <strong>7:30 am to 9:00 am</strong> at <strong>Bishop-McCann</strong>\, 1701 Walnut\, Kansas City\, MO.<strong> </strong>. <strong>Paul Russell</strong>\, Founder and Owner of <a href="http://www.ej4.com/"><span style="color: windowtext\;">ej4\, LLC</span></a>\, will present on the topic of <strong><em>Dealing With an Extended Sales Cycle</em></strong>. If you work in the sales world you will not want to miss this presentation!<br />\n<br />\nIf you are interested in attending please <strong>register by clicking on the link above.</strong> Space is limited so please RSVP early. Also\, if you are interested in more information on the MasterMinds concept\, visit <a href="http://maglcc.org/pages/MasterMinds/">http://maglcc.org/pages/MasterMinds/</a>.<br />\n<br />\nWe hope to see you at MasterMinds!<br />\n<br />\n(MasterMinds is limited to Members of the Mid-America GLCC)</span></span>
LOCATION:Bishop-McCann 1701 Walnut Kansas City\, MO 64108
UID:e.1487.66
SEQUENCE:3
DTSTAMP:20260421T135059Z
URL:http://business.midamericalgbt.org/events/details/masterminds-january-01-28-2014-66
END:VEVENT

END:VCALENDAR
