BEGIN:VCALENDAR
VERSION:2.0
PRODID:-//ChamberMaster//Event Calendar 2.0//EN
METHOD:PUBLISH
X-PUBLISHED-TTL:P3D
REFRESH-INTERVAL:P3D
CALSCALE:GREGORIAN
BEGIN:VEVENT
DTSTART:20140325T123000Z
DTEND:20140325T140000Z
X-MICROSOFT-CDO-ALLDAYEVENT:FALSE
SUMMARY:MasterMinds--March
DESCRIPTION:The Mid-America Gay & Lesbian Chamber of Commerce would like to invite you to the March MasterMinds Session a week from today--Tuesday\, March 25th\, 7:30 am to 9:00 am at Bishop-McCann\, 1701 Walnut\, Kansas City\, MO. Kyle Piccola\, Senior Field Organizer--Kansas City Region for PROMO\, will present on the challenge of re-launching and enhancing PROMO's presence in Kansas City and Western Missouri.\n\n\n\nIf you are interested in attending please register by clicking on the "REGISTER ONLINE" tab above.  Space is limited so please RSVP early. Also\, if you are interested in more information on the MasterMinds concept\, visit http://maglcc.org/pages/MasterMinds/.\n\n\n\nWe hope to see you at MasterMinds next Tuesday\, March 25th!\n\n \n\nFor more information on PROMO\, a Missouri state-wide LGBT advocacy group\, visit www.promoonline.org.
X-ALT-DESC;FMTTYPE=text/html:<span style="font-family:arial\,sans-serif\;"><span style="font-size:9.0pt\;">The Mid-America Gay &amp\; Lesbian Chamber of Commerce would like to invite you to the March <strong><span style="font-family:arial\,sans-serif\;">MasterMinds Session </span></strong><strong><span style="font-weight:normal\;"><span style="font-family:arial\,sans-serif\;">a week from today--</span></span></strong><strong><span style="font-family:arial\,sans-serif\;">Tuesday\, March 25th\,</span></strong> <strong><span style="font-family:arial\,sans-serif\;">7:30 am to 9:00 am</span></strong> at <strong><span style="font-family:arial\,sans-serif\;">Bishop-McCann</span></strong>\, 1701 Walnut\, Kansas City\, MO.<strong><span style="font-family:arial\,sans-serif\;"> Kyle Piccola\, </span></strong><strong><em><span style="font-weight:normal\;"><span style="font-family:arial\,sans-serif\;">Senior Field Organizer--Kansas City Region</span></span></em></strong> <strong><span style="font-weight:normal\;"><span style="font-family:arial\,sans-serif\;">for</span></span></strong><strong><span style="font-family:arial\,sans-serif\;"> PROMO\, </span></strong><strong><span style="font-weight:normal\;"><span style="font-family:arial\,sans-serif\;">will</span></span></strong> present on the challenge of <em><strong><span style="font-family:arial\,sans-serif\;">re-launching and enhancing PROMO&rsquo\;s presence in Kansas City and Western Missouri</span></strong></em>.<br />\n<br />\nIf you are interested in attending please <strong><span style="font-family:arial\,sans-serif\;">register by clicking on the &quot\;REGISTER ONLINE&quot\; tab above.&nbsp\; </span></strong>Space is limited so please RSVP early. Also\, if you are interested in more information on the MasterMinds concept\, visit <a href="http://maglcc.org/pages/MasterMinds/">http://maglcc.org/pages/MasterMinds/</a>.<br />\n<br />\nWe hope to see you at MasterMinds next <strong>Tuesday\, March 25th</strong>!</span></span><br />\n&nbsp\;<br />\n<span style="font-family:arial\,sans-serif\;"><span style="font-size:9.0pt\;">For more information on PROMO\, a Missouri state-wide LGBT advocacy group\, visit <a href="http://www.promoonline.org">www.promoonline.org</a>. </span></span>
LOCATION:Bishop-McCann 1701 Walnut Kansas City\, MO 64108
UID:e.1487.95
SEQUENCE:3
DTSTAMP:20260421T110847Z
URL:http://business.midamericalgbt.org/events/details/masterminds-march-03-25-2014-95
END:VEVENT

END:VCALENDAR
