BEGIN:VCALENDAR
VERSION:2.0
PRODID:-//ChamberMaster//Event Calendar 2.0//EN
METHOD:PUBLISH
X-PUBLISHED-TTL:P3D
REFRESH-INTERVAL:P3D
CALSCALE:GREGORIAN
BEGIN:VEVENT
DTSTART:20140527T123000Z
DTEND:20140527T140000Z
X-MICROSOFT-CDO-ALLDAYEVENT:FALSE
SUMMARY:MasterMinds--May
DESCRIPTION:The Mid-America Gay & Lesbian Chamber of Commerce would like to invite you to the May MasterMinds Session on Tuesday\, May 27th\, 7:30 am to 9:00 am at Bishop-McCann\, 1701 Walnut\, Kansas City\, MO. \n\n\n\nThis month's MasterMinds will follow a different format. Instead of a business owner presenting a business challenge\, a presentation will be given on the topic of Retaining Employees Keeping Friends. Have you ever wondered why people stay in organizations\, or why your friends stay in your life?  Come to the Masterminds Session on Tuesday\, May 27th to find out the answers.  John Hinck\, former Army Colonel and business consultant\, and currently the General Operations Manager at Bishop-McCann\, will share insights into how to retain people in your organizations and keep friends in your life.\n\n\n\nIf you would like to attend please RSVP by clicking on the registration button above. A light breakfast and coffee will be provided.\n\n\n\nWe hope to see you on Tuesday\, May 27th at MasterMinds!
X-ALT-DESC;FMTTYPE=text/html:<span style="font-family:arial\;"><span style="font-size: 12px\;">The Mid-America Gay &amp\; Lesbian Chamber of Commerce would like to invite you to the May <strong>MasterMinds Session </strong><strong><span style="font-weight: normal\;">on </span></strong><strong>Tuesday\, May 27th\,</strong> <strong>7:30 am to 9:00 am</strong> at <strong>Bishop-McCann</strong>\, 1701 Walnut\, Kansas City\, MO<strong>. </strong><br />\n<br />\nThis month&rsquo\;s MasterMinds will follow a different format. Instead of a business owner presenting a business challenge\, a presentation will be given on the <strong><span style="font-weight: normal\;">topic of </span></strong><strong>Retaining Employees&hellip\;Keeping Friends. </strong>Have you ever wondered why people stay in organizations\, or why your friends stay in your life?&nbsp\; Come to the Masterminds Session on Tuesday\, May 27<sup>th</sup> to find out the answers.&nbsp\; <strong>John Hinck</strong>\, former <em>Army Colonel</em> and business consultant\, and currently the <em>General Operations Manager</em> at <strong>Bishop-McCann</strong>\, will share insights into how to retain people in your organizations and keep friends in your life.<br />\n<br />\nIf you would like to attend please RSVP by clicking on the registration button above. A light breakfast and coffee will be provided.<br />\n<br />\nWe hope to see you on Tuesday\, May 27<sup>th</sup> at MasterMinds!</span></span>
LOCATION:Bishop-McCann 1701 Walnut Kansas City\, MO 64108
UID:e.1487.104
SEQUENCE:3
DTSTAMP:20260421T081026Z
URL:http://business.midamericalgbt.org/events/details/masterminds-may-05-27-2014-104
END:VEVENT

END:VCALENDAR
