BEGIN:VCALENDAR
VERSION:2.0
PRODID:-//ChamberMaster//Event Calendar 2.0//EN
METHOD:PUBLISH
X-PUBLISHED-TTL:P3D
REFRESH-INTERVAL:P3D
CALSCALE:GREGORIAN
BEGIN:VEVENT
DTSTART:20140226T013000Z
DTEND:20140226T030000Z
X-MICROSOFT-CDO-ALLDAYEVENT:FALSE
SUMMARY:National Geographic Live: Bryan Smith ? The Lens of Adventure
DESCRIPTION:Have you ever watched a National Geographic film about some incredibly remote\, dangerous place\, and then wondered what the people behind the cameras had to go through to capture the action? Smith\, an award-winning filmmaker for the National Geographic Channel\, shares gripping\, behind-the-scenes moments from his assignments to document extreme feats and high adventure in the world's most challenging environments. An experienced kayaker who had paddled steep rivers in India\, Peru\, and Russia\, Smith was inspired to take up video photography while protesting a hydroelectric dam project that threatened British Columbian rivers. He went on to make films about sea kayaking and other adventure sports\, and has specialized in creating innovative technical solutions to capture dizzying images of dangerous situations. He recently shot National Geographic's "Alaska Wing Men" series about bush pilots\, and directed an amazing special "The Man Who Could Fly".
X-ALT-DESC;FMTTYPE=text/html:Have you ever watched a National Geographic film about some incredibly remote\, dangerous place\, and then wondered what the people behind the cameras had to go through to capture the action? Smith\, an award-winning filmmaker for the National Geographic Channel\, shares gripping\, behind-the-scenes moments from his assignments to document extreme feats and high adventure in the world&rsquo\;s most challenging environments. An experienced kayaker who had paddled steep rivers in India\, Peru\, and Russia\, Smith was inspired to take up video photography while protesting a hydroelectric dam project that threatened British Columbian rivers. He went on to make films about sea kayaking and other adventure sports\, and has specialized in creating innovative technical solutions to capture dizzying images of dangerous situations. He recently shot National Geographic&rsquo\;s &ldquo\;Alaska Wing Men&rdquo\; series about bush pilots\, and directed an amazing special &ldquo\;The Man Who Could Fly&rdquo\;.<br />\n
LOCATION:Kauffman Center for the Performing Arts
UID:e.1487.70
SEQUENCE:3
DTSTAMP:20260421T123243Z
URL:http://business.midamericalgbt.org/events/details/national-geographic-live-bryan-smith-the-lens-of-adventure-02-25-2014-70
END:VEVENT

END:VCALENDAR
