BEGIN:VCALENDAR
VERSION:2.0
PRODID:-//ChamberMaster//Event Calendar 2.0//EN
METHOD:PUBLISH
X-PUBLISHED-TTL:P3D
REFRESH-INTERVAL:P3D
CALSCALE:GREGORIAN
BEGIN:VEVENT
DTSTART:20140514T003000Z
DTEND:20140514T020000Z
X-MICROSOFT-CDO-ALLDAYEVENT:FALSE
SUMMARY:National Geographic Live: Paul Sereno ? The Dinosaur Hunter
DESCRIPTION:Having discovered more than two dozen new species of dinosaurs on five continents\, Sereno has been called a modern-day Indiana Jones. His string of breakthrough discoveries began in 1988 in the foothills of the Andes when his team discovered the first dinosaurs to roam the Earth\, including the most primitive of all\, Eoraptor. This work culminated in the most complete picture yet of the dawn of the dinosaur era\, some 225 million years ago.\n\n \n\nSince then he has uncovered dinosaurs and other prehistoric creatures around the world. In the Sahara\, he discovered dinosaurs like the huge Tyrannosaurus-size Carcharodontosaurus. In India\, he discovered Asia's first dinosaur skull\, Rajasaurus. And in the Gobi in Inner Mongolia\, he uncovered a herd of more than 20 dinosaurs that died in their tracks.\n\n \n\nA professor at the University of Chicago\, Sereno has written several articles for National Geographic and scholarly journals\, and is the subject of many documentaries. His recognitions include People magazine's 50 Most Beautiful People\, Esquire's 100 Best People in the World\, Boston Museum of Science's Walker Prize for extraordinary contributions in paleontology\, and Columbia University's University Medal for Excellence.
X-ALT-DESC;FMTTYPE=text/html:Having discovered more than two dozen new species of dinosaurs on five continents\, Sereno has been called a modern-day Indiana Jones. His string of breakthrough discoveries began in 1988 in the foothills of the Andes when his team discovered the first dinosaurs to roam the Earth\, including the most primitive of all\, Eoraptor. This work culminated in the most complete picture yet of the dawn of the dinosaur era\, some 225 million years ago.<br />\n&nbsp\;<br />\nSince then he has uncovered dinosaurs and other prehistoric creatures around the world. In the Sahara\, he discovered dinosaurs like the huge Tyrannosaurus-size Carcharodontosaurus. In India\, he discovered Asia&rsquo\;s first dinosaur skull\, Rajasaurus. And in the Gobi in Inner Mongolia\, he uncovered a herd of more than 20 dinosaurs that died in their tracks.<br />\n&nbsp\;<br />\nA professor at the University of Chicago\, Sereno has written several articles for National Geographic and scholarly journals\, and is the subject of many documentaries. His recognitions include People magazine&rsquo\;s 50 Most Beautiful People\, Esquire&rsquo\;s 100 Best People in the World\, Boston Museum of Science&rsquo\;s Walker Prize for extraordinary contributions in paleontology\, and Columbia University&rsquo\;s University Medal for Excellence.<br />\n
LOCATION:Kauffman Center for the Performing Arts
UID:e.1487.73
SEQUENCE:3
DTSTAMP:20260421T080409Z
URL:http://business.midamericalgbt.org/events/details/national-geographic-live-paul-sereno-the-dinosaur-hunter-05-13-2014-73
END:VEVENT

END:VCALENDAR
