BEGIN:VCALENDAR
VERSION:2.0
PRODID:-//ChamberMaster//Event Calendar 2.0//EN
METHOD:PUBLISH
X-PUBLISHED-TTL:P3D
REFRESH-INTERVAL:P3D
CALSCALE:GREGORIAN
BEGIN:VEVENT
DTSTART:20140413T010000Z
DTEND:20140413T050000Z
X-MICROSOFT-CDO-ALLDAYEVENT:FALSE
SUMMARY:Night in BLOOM: a black & white masquerade (benefiting KC CARE Clinic)
DESCRIPTION:It's an evening cloaked in mystery \n\nHidden\, yet right in the heart of Kansas City \n\nAmong columns of stone\, antique iron\, bronze and wood \n\nA decadent gala that will transport you to revel at the\n\nCity's hippest\, can't-miss party of the year \n\nAll to benefit the Kansas City CARE Clinic\n\nDon a Mask to reveal your philanthropic spirit \n\nSlip into something elegant or edgy \n\nBut black and white are the colors of the night \n\nHonorary Chairs\n\nKelly Cole & Charles Shrout\n\nEvent Chairs\n\nKate McKinney\, Kurt Knapstein\, Stacey Lukas\, & Bernard Shondell
X-ALT-DESC;FMTTYPE=text/html:<div class="span_full module_cont module_divider" style="font-family: Arial\, Helvetica\, sans-serif\; margin: 0px 0px 0px 20.234375px\; padding: 0px 0px 15px\; color: rgb(61\, 61\, 61)\; line-height: 18px\; float: left\; width: 789.5px\; background-color: rgba(255\, 255\, 255\, 0.901961)\; outline: none !important\;">&nbsp\;</div>\n\n<div class="clear" style="font-family: Arial\, Helvetica\, sans-serif\; margin: 0px\; padding: 0px\; color: rgb(61\, 61\, 61)\; line-height: 18px\; background-color: rgba(255\, 255\, 255\, 0.901961)\; outline: none !important\;">&nbsp\;</div>\n\n<div class="span_full module_cont module_content" style="font-family: Arial\, Helvetica\, sans-serif\; margin: 0px 0px 0px 20.234375px\; padding: 0px 0px 15px\; color: rgb(61\, 61\, 61)\; line-height: 18px\; width: 789.5px\; float: left\; background-color: rgba(255\, 255\, 255\, 0.901961)\; outline: none !important\;">\n<div class="module_content" style="margin: 0px\; padding: 0px\; width: 789.5px\; outline: none !important\;">\n<p style="margin: 0px 0px 10px\; padding: 0px\; outline: none !important\;"><span style="margin: 0px\; padding: 0px\; outline: none !important\;">It&rsquo\;s an evening cloaked in mystery&hellip\;</span><br style="margin: 0px\; padding: 0px\; outline: none !important\;" />\n<span style="margin: 0px\; padding: 0px\; outline: none !important\;">Hidden\, yet right in the heart of Kansas City&hellip\;</span><br style="margin: 0px\; padding: 0px\; outline: none !important\;" />\n<span style="margin: 0px\; padding: 0px\; outline: none !important\;">Among columns of stone\, antique iron\, bronze and wood&hellip\;</span><br style="margin: 0px\; padding: 0px\; outline: none !important\;" />\n<span style="margin: 0px\; padding: 0px\; outline: none !important\;">A decadent gala that will transport you to revel at the</span><br style="margin: 0px\; padding: 0px\; outline: none !important\;" />\n<span style="margin: 0px\; padding: 0px\; outline: none !important\;">City&rsquo\;s hippest\, can&rsquo\;t-miss party of the year&hellip\;</span><br style="margin: 0px\; padding: 0px\; outline: none !important\;" />\n<span style="margin: 0px\; padding: 0px\; outline: none !important\;">All to benefit the Kansas City CARE Clinic</span></p>\n\n<p style="margin: 0px 0px 10px\; padding: 0px\; outline: none !important\;"><span style="margin: 0px\; padding: 0px\; outline: none !important\;">Don a Mask to reveal your philanthropic spirit&hellip\;</span><br style="margin: 0px\; padding: 0px\; outline: none !important\;" />\n<span style="margin: 0px\; padding: 0px\; outline: none !important\;">Slip into something elegant or edgy&hellip\;</span><br style="margin: 0px\; padding: 0px\; outline: none !important\;" />\n<span style="margin: 0px\; padding: 0px\; outline: none !important\;">But black and white are the colors of the night&hellip\;</span></p>\n\n<p style="margin: 0px 0px 10px\; padding: 0px\; outline: none !important\;"><span style="background-color: rgb(61\, 61\, 61)\; color: rgb(218\, 218\, 218)\; line-height: 1.5em\;">Honorary Chairs</span></p>\n\n<p style="margin: 0px 0px 10px\; padding: 0px\; outline: none !important\;">Kelly Cole &amp\; Charles Shrout</p>\n\n<p style="margin: 0px 0px 10px\; padding: 0px\; outline: none !important\;"><span class="highlighted_dark" style="margin: 0px\; padding: 0px\; color: rgb(218\, 218\, 218)\; background-color: rgb(61\, 61\, 61)\; outline: none !important\;">Event Chairs</span><br style="margin: 0px\; padding: 0px\; outline: none !important\;" />\nKate McKinney\, Kurt Knapstein\, Stacey Lukas\, &amp\; Bernard Shondell</p>\n</div>\n</div>\n
LOCATION:Scottish Rite Temple 1330 East Linwood Boulevard Kansas City\, Missouri
UID:e.1487.105
SEQUENCE:3
DTSTAMP:20260421T095155Z
URL:http://business.midamericalgbt.org/events/details/night-in-bloom-a-black-white-masquerade-benefiting-kc-care-clinic-04-12-2014-105
END:VEVENT

END:VCALENDAR
