BEGIN:VCALENDAR
VERSION:2.0
PRODID:-//ChamberMaster//Event Calendar 2.0//EN
METHOD:PUBLISH
X-PUBLISHED-TTL:P3D
REFRESH-INTERVAL:P3D
CALSCALE:GREGORIAN
BEGIN:VEVENT
DTSTART:20140412T233000Z
DTEND:20140413T023000Z
X-MICROSOFT-CDO-ALLDAYEVENT:FALSE
SUMMARY:Queer Queens of Qomedy
DESCRIPTION:The FUNNY Lesbians are coming Kansas City! If you want to spend the night laughing then come spend the night with the 3 reigning...Queer Queens of Qomedy! All hail these nationaly known comedians Poppy Champlin\, Jennie McNulty and Sandra Valls. One night only at the UMKC Student Union Theater.
X-ALT-DESC;FMTTYPE=text/html:The FUNNY Lesbians are coming Kansas City! If you want to spend the night laughing then come spend the night with the 3 reigning...Queer Queens of Qomedy! All hail these nationaly known comedians Poppy Champlin\, Jennie McNulty and Sandra Valls. One night only at the UMKC Student Union Theater.
LOCATION:UMKC Student Union Theater
UID:e.1487.94
SEQUENCE:3
DTSTAMP:20260421T081329Z
URL:http://business.midamericalgbt.org/events/details/queer-queens-of-qomedy-04-12-2014-94
END:VEVENT

END:VCALENDAR
