BEGIN:VCALENDAR
VERSION:2.0
PRODID:-//ChamberMaster//Event Calendar 2.0//EN
METHOD:PUBLISH
X-PUBLISHED-TTL:P3D
REFRESH-INTERVAL:P3D
CALSCALE:GREGORIAN
BEGIN:VEVENT
DTSTART:20260501T210000Z
DTEND:20260501T230000Z
X-MICROSOFT-CDO-ALLDAYEVENT:FALSE
SUMMARY:Revenge of the Sip: A Closing Happy Hour for “The Nostalgia Awakens”
DESCRIPTION:This is where the fun begins! Join The National Museum of Toys and Miniatures for Revenge of the Sip\, a closing happy hour on Friday\, May 1\, 4-6PM\, for The Nostalgia Awakens: Retro Kenner Star Wars Action Figure Toys. Immerse yourself in a galaxy far\, far away one last time before the exhibition closes on Monday\, May 4!\n\nFor $4\, enjoy refreshments including a tasting by Boulevard Brewing Company and J. Rieger & Co.\, appetizers from Dutzel's Catering & Events\, and donuts from Donutology. A mocktail and soda will also be provided.\n\nJoin the Jedi or the Sith through your own balloon lightsaber created by Pop Culture Sculptures and snap a photo with the cosplayers from the 70th Explorers Garrison of the 501st Legion. All ages are welcome. Don't miss this closing celebration at the Museum!\n\nThis project is supported in part by the City of Kansas City\, Missouri Neighborhood Tourist Development Fund\;  Commerce Bancshares Foundation\; and Boulevard Brewing Company.
X-ALT-DESC;FMTTYPE=text/html:<p style="margin-left:0px\; margin-right:0px">This is where the fun begins! Join The National Museum of Toys and Miniatures for Revenge of the Sip\, a closing happy hour on Friday\, May 1\, 4-6PM\, for&nbsp\;<em>The Nostalgia Awakens: Retro Kenner Star Wars Action Figure Toys</em>. Immerse yourself in a galaxy far\, far away one last time before the exhibition closes on Monday\, May 4!</p>\n\n<p>For $4\, enjoy refreshments including a tasting by&nbsp\;<a href="https://www.boulevard.com/" style="--tw-border-spacing-x: 0\; --tw-border-spacing-y: 0\; --tw-translate-x: 0\; --tw-translate-y: 0\; --tw-rotate: 0\; --tw-skew-x: 0\; --tw-skew-y: 0\; --tw-scale-x: 1\; --tw-scale-y: 1\; --tw-pan-x: \; --tw-pan-y: \; --tw-pinch-zoom: \; --tw-scroll-snap-strictness: proximity\; --tw-gradient-from-position: \; --tw-gradient-via-position: \; --tw-gradient-to-position: \; --tw-ordinal: \; --tw-slashed-zero: \; --tw-numeric-figure: \; --tw-numeric-spacing: \; --tw-numeric-fraction: \; --tw-ring-inset: \; --tw-ring-offset-width: 0px\; --tw-ring-offset-color: #fff\; --tw-ring-color: #3b82f680\; --tw-ring-offset-shadow: 0 0 #0000\; --tw-ring-shadow: 0 0 #0000\; --tw-shadow: 0 0 #0000\; --tw-shadow-colored: 0 0 #0000\; --tw-blur: \; --tw-brightness: \; --tw-contrast: \; --tw-grayscale: \; --tw-hue-rotate: \; --tw-invert: \; --tw-saturate: \; --tw-sepia: \; --tw-drop-shadow: \; --tw-backdrop-blur: \; --tw-backdrop-brightness: \; --tw-backdrop-contrast: \; --tw-backdrop-grayscale: \; --tw-backdrop-hue-rotate: \; --tw-backdrop-invert: \; --tw-backdrop-opacity: \; --tw-backdrop-saturate: \; --tw-backdrop-sepia: \; --tw-contain-size: \; --tw-contain-layout: \; --tw-contain-paint: \; --tw-contain-style: \; border: 0px solid rgb(237\, 242\, 247)\; box-sizing: border-box\; scroll-margin: 144px\; color: inherit\; text-decoration: none\; transition: 0.15s ease-in-out\;"><u>Boulevard Brewing Company</u></a>&nbsp\;and&nbsp\;<a href="https://www.jriegerco.com/" style="--tw-border-spacing-x: 0\; --tw-border-spacing-y: 0\; --tw-translate-x: 0\; --tw-translate-y: 0\; --tw-rotate: 0\; --tw-skew-x: 0\; --tw-skew-y: 0\; --tw-scale-x: 1\; --tw-scale-y: 1\; --tw-pan-x: \; --tw-pan-y: \; --tw-pinch-zoom: \; --tw-scroll-snap-strictness: proximity\; --tw-gradient-from-position: \; --tw-gradient-via-position: \; --tw-gradient-to-position: \; --tw-ordinal: \; --tw-slashed-zero: \; --tw-numeric-figure: \; --tw-numeric-spacing: \; --tw-numeric-fraction: \; --tw-ring-inset: \; --tw-ring-offset-width: 0px\; --tw-ring-offset-color: #fff\; --tw-ring-color: #3b82f680\; --tw-ring-offset-shadow: 0 0 #0000\; --tw-ring-shadow: 0 0 #0000\; --tw-shadow: 0 0 #0000\; --tw-shadow-colored: 0 0 #0000\; --tw-blur: \; --tw-brightness: \; --tw-contrast: \; --tw-grayscale: \; --tw-hue-rotate: \; --tw-invert: \; --tw-saturate: \; --tw-sepia: \; --tw-drop-shadow: \; --tw-backdrop-blur: \; --tw-backdrop-brightness: \; --tw-backdrop-contrast: \; --tw-backdrop-grayscale: \; --tw-backdrop-hue-rotate: \; --tw-backdrop-invert: \; --tw-backdrop-opacity: \; --tw-backdrop-saturate: \; --tw-backdrop-sepia: \; --tw-contain-size: \; --tw-contain-layout: \; --tw-contain-paint: \; --tw-contain-style: \; border: 0px solid rgb(237\, 242\, 247)\; box-sizing: border-box\; scroll-margin: 144px\; color: inherit\; text-decoration: none\; transition: 0.15s ease-in-out\;"><u>J. Rieger &amp\; Co.</u></a>\, appetizers from&nbsp\;<a href="https://www.dutzelscatering.com/" rel="noopener" style="--tw-border-spacing-x: 0\; --tw-border-spacing-y: 0\; --tw-translate-x: 0\; --tw-translate-y: 0\; --tw-rotate: 0\; --tw-skew-x: 0\; --tw-skew-y: 0\; --tw-scale-x: 1\; --tw-scale-y: 1\; --tw-pan-x: \; --tw-pan-y: \; --tw-pinch-zoom: \; --tw-scroll-snap-strictness: proximity\; --tw-gradient-from-position: \; --tw-gradient-via-position: \; --tw-gradient-to-position: \; --tw-ordinal: \; --tw-slashed-zero: \; --tw-numeric-figure: \; --tw-numeric-spacing: \; --tw-numeric-fraction: \; --tw-ring-inset: \; --tw-ring-offset-width: 0px\; --tw-ring-offset-color: #fff\; --tw-ring-color: #3b82f680\; --tw-ring-offset-shadow: 0 0 #0000\; --tw-ring-shadow: 0 0 #0000\; --tw-shadow: 0 0 #0000\; --tw-shadow-colored: 0 0 #0000\; --tw-blur: \; --tw-brightness: \; --tw-contrast: \; --tw-grayscale: \; --tw-hue-rotate: \; --tw-invert: \; --tw-saturate: \; --tw-sepia: \; --tw-drop-shadow: \; --tw-backdrop-blur: \; --tw-backdrop-brightness: \; --tw-backdrop-contrast: \; --tw-backdrop-grayscale: \; --tw-backdrop-hue-rotate: \; --tw-backdrop-invert: \; --tw-backdrop-opacity: \; --tw-backdrop-saturate: \; --tw-backdrop-sepia: \; --tw-contain-size: \; --tw-contain-layout: \; --tw-contain-paint: \; --tw-contain-style: \; border: 0px solid rgb(237\, 242\, 247)\; box-sizing: border-box\; scroll-margin: 144px\; color: inherit\; text-decoration: none\; transition: 0.15s ease-in-out\;" target="_blank"><u>Dutzel&rsquo\;s Catering &amp\; Events</u></a>\, and donuts from&nbsp\;<a href="https://donutology.com/" rel="noopener" style="--tw-border-spacing-x: 0\; --tw-border-spacing-y: 0\; --tw-translate-x: 0\; --tw-translate-y: 0\; --tw-rotate: 0\; --tw-skew-x: 0\; --tw-skew-y: 0\; --tw-scale-x: 1\; --tw-scale-y: 1\; --tw-pan-x: \; --tw-pan-y: \; --tw-pinch-zoom: \; --tw-scroll-snap-strictness: proximity\; --tw-gradient-from-position: \; --tw-gradient-via-position: \; --tw-gradient-to-position: \; --tw-ordinal: \; --tw-slashed-zero: \; --tw-numeric-figure: \; --tw-numeric-spacing: \; --tw-numeric-fraction: \; --tw-ring-inset: \; --tw-ring-offset-width: 0px\; --tw-ring-offset-color: #fff\; --tw-ring-color: #3b82f680\; --tw-ring-offset-shadow: 0 0 #0000\; --tw-ring-shadow: 0 0 #0000\; --tw-shadow: 0 0 #0000\; --tw-shadow-colored: 0 0 #0000\; --tw-blur: \; --tw-brightness: \; --tw-contrast: \; --tw-grayscale: \; --tw-hue-rotate: \; --tw-invert: \; --tw-saturate: \; --tw-sepia: \; --tw-drop-shadow: \; --tw-backdrop-blur: \; --tw-backdrop-brightness: \; --tw-backdrop-contrast: \; --tw-backdrop-grayscale: \; --tw-backdrop-hue-rotate: \; --tw-backdrop-invert: \; --tw-backdrop-opacity: \; --tw-backdrop-saturate: \; --tw-backdrop-sepia: \; --tw-contain-size: \; --tw-contain-layout: \; --tw-contain-paint: \; --tw-contain-style: \; border: 0px solid rgb(237\, 242\, 247)\; box-sizing: border-box\; scroll-margin: 144px\; color: inherit\; text-decoration: none\; transition: 0.15s ease-in-out\;" target="_blank"><u>Donutology</u></a>. A mocktail and soda will also be provided.</p>\n\n<p>Join the Jedi or the Sith through your own balloon lightsaber created by&nbsp\;<a href="https://popculturesculptures.com/" style="--tw-border-spacing-x: 0\; --tw-border-spacing-y: 0\; --tw-translate-x: 0\; --tw-translate-y: 0\; --tw-rotate: 0\; --tw-skew-x: 0\; --tw-skew-y: 0\; --tw-scale-x: 1\; --tw-scale-y: 1\; --tw-pan-x: \; --tw-pan-y: \; --tw-pinch-zoom: \; --tw-scroll-snap-strictness: proximity\; --tw-gradient-from-position: \; --tw-gradient-via-position: \; --tw-gradient-to-position: \; --tw-ordinal: \; --tw-slashed-zero: \; --tw-numeric-figure: \; --tw-numeric-spacing: \; --tw-numeric-fraction: \; --tw-ring-inset: \; --tw-ring-offset-width: 0px\; --tw-ring-offset-color: #fff\; --tw-ring-color: #3b82f680\; --tw-ring-offset-shadow: 0 0 #0000\; --tw-ring-shadow: 0 0 #0000\; --tw-shadow: 0 0 #0000\; --tw-shadow-colored: 0 0 #0000\; --tw-blur: \; --tw-brightness: \; --tw-contrast: \; --tw-grayscale: \; --tw-hue-rotate: \; --tw-invert: \; --tw-saturate: \; --tw-sepia: \; --tw-drop-shadow: \; --tw-backdrop-blur: \; --tw-backdrop-brightness: \; --tw-backdrop-contrast: \; --tw-backdrop-grayscale: \; --tw-backdrop-hue-rotate: \; --tw-backdrop-invert: \; --tw-backdrop-opacity: \; --tw-backdrop-saturate: \; --tw-backdrop-sepia: \; --tw-contain-size: \; --tw-contain-layout: \; --tw-contain-paint: \; --tw-contain-style: \; border: 0px solid rgb(237\, 242\, 247)\; box-sizing: border-box\; scroll-margin: 144px\; color: inherit\; text-decoration: none\; transition: 0.15s ease-in-out\;"><u>Pop Culture Sculptures</u></a>&nbsp\;and snap a photo with the cosplayers from the&nbsp\;<a href="https://www.70thexplorers.com/" rel="noopener" style="--tw-border-spacing-x: 0\; --tw-border-spacing-y: 0\; --tw-translate-x: 0\; --tw-translate-y: 0\; --tw-rotate: 0\; --tw-skew-x: 0\; --tw-skew-y: 0\; --tw-scale-x: 1\; --tw-scale-y: 1\; --tw-pan-x: \; --tw-pan-y: \; --tw-pinch-zoom: \; --tw-scroll-snap-strictness: proximity\; --tw-gradient-from-position: \; --tw-gradient-via-position: \; --tw-gradient-to-position: \; --tw-ordinal: \; --tw-slashed-zero: \; --tw-numeric-figure: \; --tw-numeric-spacing: \; --tw-numeric-fraction: \; --tw-ring-inset: \; --tw-ring-offset-width: 0px\; --tw-ring-offset-color: #fff\; --tw-ring-color: #3b82f680\; --tw-ring-offset-shadow: 0 0 #0000\; --tw-ring-shadow: 0 0 #0000\; --tw-shadow: 0 0 #0000\; --tw-shadow-colored: 0 0 #0000\; --tw-blur: \; --tw-brightness: \; --tw-contrast: \; --tw-grayscale: \; --tw-hue-rotate: \; --tw-invert: \; --tw-saturate: \; --tw-sepia: \; --tw-drop-shadow: \; --tw-backdrop-blur: \; --tw-backdrop-brightness: \; --tw-backdrop-contrast: \; --tw-backdrop-grayscale: \; --tw-backdrop-hue-rotate: \; --tw-backdrop-invert: \; --tw-backdrop-opacity: \; --tw-backdrop-saturate: \; --tw-backdrop-sepia: \; --tw-contain-size: \; --tw-contain-layout: \; --tw-contain-paint: \; --tw-contain-style: \; border: 0px solid rgb(237\, 242\, 247)\; box-sizing: border-box\; scroll-margin: 144px\; color: inherit\; text-decoration: none\; transition: 0.15s ease-in-out\;" target="_blank"><u>70th Explorers Garrison of the 501st Legion</u></a>. All ages are welcome. Don&rsquo\;t miss this closing celebration at the Museum!</p>\n\n<p>This project is supported in part by the&nbsp\;<a href="https://www.kcmo.gov/city-hall/departments/neighborhood-services/neighborhood-tourist-development-fund-ntdf" rel="noopener" style="--tw-border-spacing-x: 0\; --tw-border-spacing-y: 0\; --tw-translate-x: 0\; --tw-translate-y: 0\; --tw-rotate: 0\; --tw-skew-x: 0\; --tw-skew-y: 0\; --tw-scale-x: 1\; --tw-scale-y: 1\; --tw-pan-x: \; --tw-pan-y: \; --tw-pinch-zoom: \; --tw-scroll-snap-strictness: proximity\; --tw-gradient-from-position: \; --tw-gradient-via-position: \; --tw-gradient-to-position: \; --tw-ordinal: \; --tw-slashed-zero: \; --tw-numeric-figure: \; --tw-numeric-spacing: \; --tw-numeric-fraction: \; --tw-ring-inset: \; --tw-ring-offset-width: 0px\; --tw-ring-offset-color: #fff\; --tw-ring-color: #3b82f680\; --tw-ring-offset-shadow: 0 0 #0000\; --tw-ring-shadow: 0 0 #0000\; --tw-shadow: 0 0 #0000\; --tw-shadow-colored: 0 0 #0000\; --tw-blur: \; --tw-brightness: \; --tw-contrast: \; --tw-grayscale: \; --tw-hue-rotate: \; --tw-invert: \; --tw-saturate: \; --tw-sepia: \; --tw-drop-shadow: \; --tw-backdrop-blur: \; --tw-backdrop-brightness: \; --tw-backdrop-contrast: \; --tw-backdrop-grayscale: \; --tw-backdrop-hue-rotate: \; --tw-backdrop-invert: \; --tw-backdrop-opacity: \; --tw-backdrop-saturate: \; --tw-backdrop-sepia: \; --tw-contain-size: \; --tw-contain-layout: \; --tw-contain-paint: \; --tw-contain-style: \; border: 0px solid rgb(237\, 242\, 247)\; box-sizing: border-box\; scroll-margin: 144px\; color: inherit\; text-decoration: none\; transition: 0.15s ease-in-out\;" target="_blank"><u>City of Kansas City\, Missouri Neighborhood Tourist Development Fund\;&nbsp\;</u></a>&nbsp\;<a href="https://www.commercebank.com/" style="--tw-border-spacing-x: 0\; --tw-border-spacing-y: 0\; --tw-translate-x: 0\; --tw-translate-y: 0\; --tw-rotate: 0\; --tw-skew-x: 0\; --tw-skew-y: 0\; --tw-scale-x: 1\; --tw-scale-y: 1\; --tw-pan-x: \; --tw-pan-y: \; --tw-pinch-zoom: \; --tw-scroll-snap-strictness: proximity\; --tw-gradient-from-position: \; --tw-gradient-via-position: \; --tw-gradient-to-position: \; --tw-ordinal: \; --tw-slashed-zero: \; --tw-numeric-figure: \; --tw-numeric-spacing: \; --tw-numeric-fraction: \; --tw-ring-inset: \; --tw-ring-offset-width: 0px\; --tw-ring-offset-color: #fff\; --tw-ring-color: #3b82f680\; --tw-ring-offset-shadow: 0 0 #0000\; --tw-ring-shadow: 0 0 #0000\; --tw-shadow: 0 0 #0000\; --tw-shadow-colored: 0 0 #0000\; --tw-blur: \; --tw-brightness: \; --tw-contrast: \; --tw-grayscale: \; --tw-hue-rotate: \; --tw-invert: \; --tw-saturate: \; --tw-sepia: \; --tw-drop-shadow: \; --tw-backdrop-blur: \; --tw-backdrop-brightness: \; --tw-backdrop-contrast: \; --tw-backdrop-grayscale: \; --tw-backdrop-hue-rotate: \; --tw-backdrop-invert: \; --tw-backdrop-opacity: \; --tw-backdrop-saturate: \; --tw-backdrop-sepia: \; --tw-contain-size: \; --tw-contain-layout: \; --tw-contain-paint: \; --tw-contain-style: \; border: 0px solid rgb(237\, 242\, 247)\; box-sizing: border-box\; scroll-margin: 144px\; color: inherit\; text-decoration: none\; transition: 0.15s ease-in-out\;"><u>Commerce Bancshares Foundation\;</u></a>&nbsp\;and&nbsp\;<a href="https://www.boulevard.com/" rel="noopener" style="--tw-border-spacing-x: 0\; --tw-border-spacing-y: 0\; --tw-translate-x: 0\; --tw-translate-y: 0\; --tw-rotate: 0\; --tw-skew-x: 0\; --tw-skew-y: 0\; --tw-scale-x: 1\; --tw-scale-y: 1\; --tw-pan-x: \; --tw-pan-y: \; --tw-pinch-zoom: \; --tw-scroll-snap-strictness: proximity\; --tw-gradient-from-position: \; --tw-gradient-via-position: \; --tw-gradient-to-position: \; --tw-ordinal: \; --tw-slashed-zero: \; --tw-numeric-figure: \; --tw-numeric-spacing: \; --tw-numeric-fraction: \; --tw-ring-inset: \; --tw-ring-offset-width: 0px\; --tw-ring-offset-color: #fff\; --tw-ring-color: #3b82f680\; --tw-ring-offset-shadow: 0 0 #0000\; --tw-ring-shadow: 0 0 #0000\; --tw-shadow: 0 0 #0000\; --tw-shadow-colored: 0 0 #0000\; --tw-blur: \; --tw-brightness: \; --tw-contrast: \; --tw-grayscale: \; --tw-hue-rotate: \; --tw-invert: \; --tw-saturate: \; --tw-sepia: \; --tw-drop-shadow: \; --tw-backdrop-blur: \; --tw-backdrop-brightness: \; --tw-backdrop-contrast: \; --tw-backdrop-grayscale: \; --tw-backdrop-hue-rotate: \; --tw-backdrop-invert: \; --tw-backdrop-opacity: \; --tw-backdrop-saturate: \; --tw-backdrop-sepia: \; --tw-contain-size: \; --tw-contain-layout: \; --tw-contain-paint: \; --tw-contain-style: \; border: 0px solid rgb(237\, 242\, 247)\; box-sizing: border-box\; scroll-margin: 144px\; color: inherit\; text-decoration: none\; transition: 0.15s ease-in-out\;" target="_blank"><u>Boulevard Brewing Company</u></a>.</p>\n
LOCATION:The National Museum of Toys and Miniatures
UID:e.1487.9937
SEQUENCE:3
DTSTAMP:20260422T184856Z
URL:http://business.midamericalgbt.org/events/details/revenge-of-the-sip-a-closing-happy-hour-for-the-nostalgia-awakens-9937
END:VEVENT

END:VCALENDAR
