BEGIN:VCALENDAR
VERSION:2.0
PRODID:-//ChamberMaster//Event Calendar 2.0//EN
METHOD:PUBLISH
X-PUBLISHED-TTL:P3D
REFRESH-INTERVAL:P3D
CALSCALE:GREGORIAN
BEGIN:VEVENT
DTSTART:20140206T010000Z
DTEND:20140206T030000Z
X-MICROSOFT-CDO-ALLDAYEVENT:FALSE
SUMMARY:Special Committee on Small Business Public Meeting
DESCRIPTION:This is an opportunity for your business to give input on Wednesday\, February 5th at 7pm\, at City Hall (414 East 12th Street) on the 26th floor.  Kansas City businesses are encouraged to attend and provide input at this special evening meeting!.  This public meeting has also been posted to facebook at https://www.facebook.com/pages/Councilman-Scott-Taylors-Office-6th-District-at-Large-KCMO/191150864273927.\n\n \n\nFeel free to contact our office if I can answer any other questions.\n\n \n\nKatrina Foster \n\nLegislative Executive Aide to Councilman Taylor\n\n6th District at Large\n\n414 E. 12th Street\, 22nd Floor\n\nKansas City\, MO 64106 \n\nPhone Number 816-513-6523
X-ALT-DESC;FMTTYPE=text/html:This is an opportunity for your business to give input on Wednesday\, February 5<sup>th</sup> at 7pm\, at City Hall (414 East 12<sup>th</sup> Street) on the 26<sup>th</sup> floor.&nbsp\; <span itemprop="description"><span class="fsl">Kansas City businesses are encouraged to attend and provide input at this special evening meeting!</span></span>.&nbsp\; This public meeting has also been posted to facebook at <span style="color:#1f497d\;"><a href="https://www.facebook.com/pages/Councilman-Scott-Taylors-Office-6th-District-at-Large-KCMO/191150864273927">https://www.facebook.com/pages/Councilman-Scott-Taylors-Office-6th-District-at-Large-KCMO/191150864273927</a>.</span><br />\n&nbsp\;<br />\nFeel free to contact our office if I can answer any other questions.<br />\n&nbsp\;<br />\n<strong><span style="color:black\;">Katrina Foster </span></strong><br />\n<span style="color:black\;">Legislative Executive Aide to Councilman Taylor</span><br />\n<span style="color:black\;">6th District at Large</span><br />\n<span style="color:black\;">414 E. 12th Street\, 22nd Floor</span><br />\n<span style="color:black\;">Kansas City\, MO 64106 </span><br />\n<span style="color:black\;">Phone Number 816-513-6523</span>
LOCATION:City Hall (414 East 12th Street) on the 26th floor Kansas City\, MO
UID:e.1487.84
SEQUENCE:3
DTSTAMP:20260421T123111Z
URL:http://business.midamericalgbt.org/events/details/special-committee-on-small-business-public-meeting-02-05-2014-84
END:VEVENT

END:VCALENDAR
