BEGIN:VCALENDAR
VERSION:2.0
PRODID:-//ChamberMaster//Event Calendar 2.0//EN
METHOD:PUBLISH
X-PUBLISHED-TTL:P3D
REFRESH-INTERVAL:P3D
CALSCALE:GREGORIAN
BEGIN:VEVENT
DTSTART:20140517T010000Z
DTEND:20140517T030000Z
X-MICROSOFT-CDO-ALLDAYEVENT:FALSE
SUMMARY:The 5 Browns
DESCRIPTION:5 siblings\, 5 pianos\, and an exciting infusion of energy into the classical piano music repertoire. The 5 Browns   Ryan\, Melody\, Gregory\, Deondra and Desirae   all attended New York's prestigious Julliard School. They became the first family of five siblings ever accepted simultaneously. The quintet received their first wave of attention in 2002 when People magazine dubbed them the "Fab Five" and they were featured on Oprah and 60 Minutes. The 5 Browns have released three CDs that each went to #1 on Billboard Magazine's Classical Album Chart. Whether performing individually or together in complex five-piano arrangements\, The 5 Browns reveal a deep connection to the intent of the material while bringing a fresh energy and dynamic character\, color\, and tone to the music.
X-ALT-DESC;FMTTYPE=text/html:5 siblings\, 5 pianos\, and an exciting infusion of energy into the classical piano music repertoire. The 5 Browns &ndash\; Ryan\, Melody\, Gregory\, Deondra and Desirae &ndash\; all attended New York&rsquo\;s prestigious Julliard School. They became the first family of five siblings ever accepted simultaneously. The quintet received their first wave of attention in 2002 when People magazine dubbed them the &ldquo\;Fab Five&rdquo\; and they were featured on Oprah and 60 Minutes. The 5 Browns have released three CDs that each went to #1 on Billboard Magazine&rsquo\;s Classical Album Chart. Whether performing individually or together in complex five-piano arrangements\, The 5 Browns reveal a deep connection to the intent of the material while bringing a fresh energy and dynamic character\, color\, and tone to the music.<br />\n
LOCATION:Kauffman Center for the Performing Arts
UID:e.1487.75
SEQUENCE:3
DTSTAMP:20260421T080246Z
URL:http://business.midamericalgbt.org/events/details/the-5-browns-05-16-2014-75
END:VEVENT

END:VCALENDAR
