BEGIN:VCALENDAR
VERSION:2.0
PRODID:-//ChamberMaster//Event Calendar 2.0//EN
METHOD:PUBLISH
X-PUBLISHED-TTL:P3D
REFRESH-INTERVAL:P3D
CALSCALE:GREGORIAN
BEGIN:VEVENT
DTSTART:20130110T233000Z
DTEND:20130111T013000Z
X-MICROSOFT-CDO-ALLDAYEVENT:FALSE
SUMMARY:The B2B Network
DESCRIPTION:Online Registration has closed. You may register at the door at tonight's event.\n\n\n\n\n\nThe first B2B Network of 2013 will be held on Thursday\, January 10th\, 5:30 to 7:30 pm at Chairman's Circle Member Ameristar Casino Hotel Kansas City. Ameristar Casino Hotel Kansas City is located at 3200 North Ameristar Drive in Kansas City\, Missouri.  \n\n\n\nThe B2B Network is a great opportunity for MAGLCC members to network with other members and learn from some of Kansas City's most successful business people. The B2B Network gives you a chance to interact with other members to increase your visibility\, your business and your bottom line!  \n\n\n\nSean Barnard\, Senior Vice-President and General Manager of Ameristar Casino Hotel Kansas City\, will share remarks on the value of joining the MAGLCC. Mr. Barnard also sits on the board of the Mid-America Gay & Lesbian Chamber of Commerce.\n\n \n\nDuring the evening enjoy complimentary drinks and delicious appetizers\, courtesy of Ameristar Casino Hotel Kansas City. In addition\, Ameristar will provide tutorials on Craps\, Roulette and other casino games during the event! If you'd like to make a night of it\, Ameristar is offering a special room rate of only $80. To receive this special offer call (816) 414-7000 and mention the Mid-America Gay & Lesbian Chamber of Commerce. \n\n\n\nThe B2B Network is FREE for MAGLCC Members and $10 each for prospective members
X-ALT-DESC;FMTTYPE=text/html:<span style="font-size:14px\;"><u><strong><span style="color: rgb(0\, 0\, 128)\;">Online Registration has closed. You may register at the door at tonight&#39\;s event</span></strong></u></span>.<br />\n<br />\n<br />\nThe first <strong>B2B Network</strong> of 2013 will be held on <strong>Thursday\, January 10th</strong>\, <strong>5:30 to 7:30 pm </strong>at Chairman&#39\;s Circle Member <a href="http://www.ameristar.com/Kansas_City.aspx">Ameristar Casino Hotel Kansas City</a>. Ameristar Casino Hotel Kansas City is located at <strong>3200 North Ameristar Drive</strong> in Kansas City\, Missouri. &nbsp\;<br />\n<br />\nThe B2B Network is a great opportunity for MAGLCC members to <strong>network with other members</strong> and <strong>learn from some of Kansas City&#39\;s most successful business people</strong>. The B2B Network gives you a chance to interact with other members to <strong>increase your visibility\, your business and your bottom line</strong>! &nbsp\;<br />\n<br />\n<strong>Sean Barnard</strong>\, <em>Senior Vice-President and General Manager</em> of Ameristar Casino Hotel Kansas City\, will share remarks on the value of joining the MAGLCC. Mr. Barnard also sits on the board of the Mid-America Gay &amp\; Lesbian Chamber of Commerce.<br />\n&nbsp\;<br />\nDuring the evening enjoy <strong>complimentary drinks and delicious appetizers</strong>\, courtesy of Ameristar Casino Hotel Kansas City. In addition\, Ameristar will provide <strong>tutorials on Craps\, Roulette </strong>and other casino games during the event! If you&#39\;d like to make a night of it\, Ameristar is offering a <strong>special room rate of only $80</strong>. To receive this special offer <strong>call (816) 414-7000 and mention the Mid-America Gay &amp\; Lesbian Chamber of Commerce</strong>.&nbsp\;<br />\n<br />\n<span style="color:#333333\;"><span style="font-family:arial\,sans-serif\;"><span style="font-size:10.0pt\;">The B2B Network is <strong><span style="font-family:arial\,sans-serif\;">FREE for MAGLCC Members</span></strong></span> and $10 each for prospective members</span></span>
LOCATION:Ameristar Casino Hotel Kansas City 3200 North Ameristar Drive Kansas City\, MO 64161
UID:e.1487.13
SEQUENCE:3
DTSTAMP:20260421T081036Z
URL:http://business.midamericalgbt.org/events/details/the-b2b-network-01-10-2013-13
END:VEVENT

END:VCALENDAR
