BEGIN:VCALENDAR
VERSION:2.0
PRODID:-//ChamberMaster//Event Calendar 2.0//EN
METHOD:PUBLISH
X-PUBLISHED-TTL:P3D
REFRESH-INTERVAL:P3D
CALSCALE:GREGORIAN
BEGIN:VEVENT
DTSTART:20140410T223000Z
DTEND:20140411T003000Z
X-MICROSOFT-CDO-ALLDAYEVENT:FALSE
SUMMARY:The B2B Network--April
DESCRIPTION:We apologize but online registration has closed. If you missed registration you may register at the door this evening beginning at 5:30 pm. We hope to see you tonight at Hotel Phillips!\n\n\n\nJoin the Mid-America GLCC at the B2B Network on Thursday\, April 10th\, 5:30 to 7:30 pm! The B2B Network will be held at Mid-America GLCC Executive Member\, Hotel Phillips\, located at 106 W. 12th St.\, Kansas City\, MO 64105. \n\n\n\nTheresa O'Leary\, Marketing & Events Manager for Hotel Phillips\, will share remarks on behalf of the hotel. Tours of the Missouri & Kansas Suites on the top floor will be provided. In addition\, a one-night stay will be given to a lucky attendee! \n\n \n\nNetwork * Make new friends * Increase your bottom line! \n\n \n\nFree for Mid-America GLCC Members. $20 each for Prospective Members. \n\n \n\nComplimentary beer & wine and delicious appetizers courtesy of Hotel Phillips.\n\n\n\nParking Information: \n\nComplimentary Valet will be provided\, courtesy of Hotel Phillips.
X-ALT-DESC;FMTTYPE=text/html:<span style="color:#0000CD\;"><span style="font-family: arial\,sans-serif\;"><span style="font-size: 10pt\;"><strong>We apologize but online registration has closed. If you missed registration you may register at the door this evening beginning at 5:30 pm. We hope to see you tonight at Hotel Phillips!</strong></span></span></span><br />\n<br />\n<span style="color:#666666\;"><span style="font-family:arial\,sans-serif\;"><span style="font-size:10.0pt\;">Join the <a href="http://r20.rs6.net/tn.jsp?e=001BvmS5qZOKJN8UOboZpeTMpuTjlsBuBHY7ynqurH2uRfapZXngLzkV0Pu-F_E-vyoXiPog_Vus7YGqnQg3nWxXnYD-yLINixI6JS_YBNgUPI6tYFnJ0wERw==" shape="rect" target="_blank">Mid-America GLCC</a> at the B2B Network on <strong><span style="font-family:arial\,sans-serif\;">Thursday\, April 10th</span></strong>\, 5:30 to 7:30 pm! </span></span></span><span style="color:#666666\;"><span style="font-family:arial\,sans-serif\;"><span style="font-size:10.0pt\;">The B2B Network will be held at Mid-America GLCC Executive Member\, <a href="http://www.hotelphillips.com/">Hotel Phillips</a>\, located at<strong><span style="font-family:arial\,sans-serif\;"> 106 W. 12th St.\,</span></strong> Kansas City\, MO 64105<strong><span style="font-family:arial\,sans-serif\;">.</span></strong> </span></span></span><br />\n<br />\n<strong><span style="color:#595959\;"><span style="font-family:arial\,sans-serif\;"><span style="font-size:10.0pt\;">Theresa O&#39\;Leary</span></span></span></strong><span style="color:#595959\;"><span style="font-family:arial\,sans-serif\;"><span style="font-size:10.0pt\;">\, <em><span style="font-family:arial\,sans-serif\;">Marketing &amp\; Events Manager</span></em> for Hotel Phillips\, will share remarks on behalf of the hotel. Tours of the Missouri &amp\; Kansas Suites on the top floor will be provided. In addition\, a one-night stay will be given to a lucky attendee!&nbsp\;</span></span></span><br />\n&nbsp\;<br />\n<strong><em><span style="color:#004F6C\;"><span style="font-family:arial\,sans-serif\;"><span style="font-size:10.0pt\;">Network *</span></span></span></em></strong><strong><em><span style="color:#F05423\;"><span style="font-family:arial\,sans-serif\;"><span style="font-size:10.0pt\;"> Make new friends</span></span></span></em></strong><strong><em><span style="color:#004F6C\;"><span style="font-family:arial\,sans-serif\;"><span style="font-size:10.0pt\;"> * </span></span></span></em></strong><strong><em><span style="color:#FDB720\;"><span style="font-family:arial\,sans-serif\;"><span style="font-size:10.0pt\;">Increase your bottom line</span></span></span></em></strong><strong><em><span style="color:#004F6C\;"><span style="font-family:arial\,sans-serif\;"><span style="font-size:10.0pt\;">!&nbsp\;</span></span></span></em></strong><br />\n&nbsp\;<br />\n<strong><span style="color:#666666\;"><span style="font-family:arial\,sans-serif\;"><span style="font-size:10.0pt\;">Free for Mid-America GLCC Members</span></span></span></strong><span style="color:#666666\;"><span style="font-family:arial\,sans-serif\;"><span style="font-size:10.0pt\;">. $20 each for Prospective Members.&nbsp\;</span></span></span><br />\n&nbsp\;<br />\n<span style="color:#666666\;"><span style="font-family:arial\,sans-serif\;"><span style="font-size:10.0pt\;">Complimentary beer &amp\; wine and delicious appetizers courtesy of Hotel Phillips.</span></span></span><br />\n<br />\n<strong><span style="color:#666666\;"><span style="font-family:arial\,sans-serif\;"><span style="font-size:10.0pt\;">Parking Information:</span></span></span></strong>&nbsp\;<br />\n<span style="color:#666666\;"><span style="font-family:arial\,sans-serif\;"><span style="font-size:10.0pt\;">Complimentary Valet will be provided\, courtesy of Hotel Phillips.</span></span></span>
LOCATION:Hotel Phillips 106 W. 12th St. Kansas City\, MO 64105 Parking Information: Complimentary Valet will be provided\, courtesy of Hotel Phillips.
UID:e.1487.99
SEQUENCE:3
DTSTAMP:20260421T092947Z
URL:http://business.midamericalgbt.org/events/details/the-b2b-network-april-04-10-2014-99
END:VEVENT

END:VCALENDAR
