BEGIN:VCALENDAR
VERSION:2.0
PRODID:-//ChamberMaster//Event Calendar 2.0//EN
METHOD:PUBLISH
X-PUBLISHED-TTL:P3D
REFRESH-INTERVAL:P3D
CALSCALE:GREGORIAN
BEGIN:VEVENT
DTSTART:20131212T233000Z
DTEND:20131213T013000Z
X-MICROSOFT-CDO-ALLDAYEVENT:FALSE
SUMMARY:The B2B Network--December.
DESCRIPTION:We apologize but online registration has closed. However\, you may register for the B2B Network at the door beginning at 5:30 pm. We hope to see you tonight! \n\n\n\nJoin the Mid-America GLCC for a holiday B2B Network Happy Hour on Thursday\, December 12th\, 5:30 to 7:30 pm!\n\n\n\nThe B2B Network Happy Hour will be held at Chairman's Circle Member The Broadway Jazz Club\, located at 3601 Broadway Blvd.\, Kansas City\, MO.\n\n\n\nNetwork * Make new friends * Increase your bottom line! \n\n \n\nFree for Mid-America GLCC Members and Prospective Members. Members will receive a complimentary beverage courtesy of The Broadway Jazz Club!\n\n\n\nCash Bar. Complimentary Appetizers.
X-ALT-DESC;FMTTYPE=text/html:<span style="color:#000080\;"><strong><span style="font-family: arial\,sans-serif\;"><span style="font-size: 10pt\;">We apologize but online registration has closed. However\, you may register for the B2B Network at the door beginning at 5:30 pm. We hope to see you tonight! </span></span></strong></span><br />\n<br />\n<span style="color:#5e5535\;"><span style="font-family:arial\,sans-serif\;"><span style="font-size:10.0pt\;">Join the <a href="http://r20.rs6.net/tn.jsp?e=001KJZyDDiZJuqKl_fytTfAzCDa_4GQhcZDrzNM2DP7wXBDrkPJT8pF84kR-Mo18Cu8yEhluYBi4WxQsNWnN3De-q_k54ezWfL4L0fv6_lPeMAjzlVPSNbWR6O7vH7Sn68N9YcFSRtWTacffEU7bACwRmprszOoxMufx5LWvlOsZ37Bh_nIzmZCaNFQC8co86Ggg-ySpCWM_df8-hY_geJPjNCQDxT451CS74fYw8qyBdZPmrWaxEsH9u1K5H79bUPV" shape="rect" target="_blank">Mid-America GLCC</a> for a holiday <strong><span style="font-family:arial\,sans-serif\;">B2B Network</span></strong></span> <strong>Happy Hour </strong>on <strong><span style="font-family:arial\,sans-serif\;">Thursday\, December 12th</span></strong></span>\, 5:30 to 7:30 pm!<br />\n<br />\nThe B2B Network Happy Hour will be held at<em><span style="font-family:arial\,sans-serif\;"> Chairman&#39\;s Circle</span></em></span> Member <a href="http://www.thebroadwayjazzclub.com">The Broadway Jazz Club</a>\, located at <strong>3601 Broadway Blvd.</strong>\, Kansas City\, MO.<br />\n<br />\n<strong><span style="color:#004f6c\;"><span style="font-family:arial\,sans-serif\;"><span style="font-size:10.0pt\;"><strong><span style="font-family:arial\,sans-serif\;">Network</span></strong></span></span></span></strong><span style="color:#5e5535\;"><span style="font-family:arial\,sans-serif\;"><span style="font-size:10.0pt\;"> * </span></span></span><strong><span style="color:#f05423\;"><span style="font-family:arial\,sans-serif\;"><span style="font-size:10.0pt\;">Make new friends</span></span></span></strong><span style="color:#5e5535\;"><span style="font-family:arial\,sans-serif\;"><span style="font-size:10.0pt\;"> * </span></span></span><strong><span style="color:#fdb720\;"><span style="font-family:arial\,sans-serif\;"><span style="font-size:10.0pt\;">Increase your bottom line</span></span></span></strong><span style="color:#5e5535\;"><span style="font-family:arial\,sans-serif\;"><span style="font-size:10.0pt\;">!&nbsp\;</span></span></span><br />\n&nbsp\;<br />\n<strong><span style="color:#5e5535\;"><span style="font-family:arial\,sans-serif\;"><span style="font-size:10.0pt\;">Free for Mid-America GLCC Members</span></span></span></strong><span style="color:#5e5535\;"><span style="font-family:arial\,sans-serif\;"><span style="font-size:10.0pt\;"> and Prospective Members. <strong>Members will receive a complimentary beverage courtesy of The Broadway Jazz Club!</strong><br />\n<br />\nCash Bar. Complimentary Appetizers. </span></span></span>
LOCATION:The Broadway Jazz Club 3601 Broadway Bvld. Kansas City\, MO 64111
UID:e.1487.63
SEQUENCE:3
DTSTAMP:20260421T164710Z
URL:http://business.midamericalgbt.org/events/details/the-b2b-network-december-12-12-2013-63
END:VEVENT

END:VCALENDAR
