BEGIN:VCALENDAR
VERSION:2.0
PRODID:-//ChamberMaster//Event Calendar 2.0//EN
METHOD:PUBLISH
X-PUBLISHED-TTL:P3D
REFRESH-INTERVAL:P3D
CALSCALE:GREGORIAN
BEGIN:VEVENT
DTSTART:20140213T233000Z
DTEND:20140214T013000Z
X-MICROSOFT-CDO-ALLDAYEVENT:FALSE
SUMMARY:The B2B Network--February
DESCRIPTION:We apologize but online registration has closed. You may register at the door this evening beginning at 5:30 pm. We hope to see you tonight at the B2B Network!\n\n\n\nJoin the Mid-America GLCC for the B2B Network on Thursday\, February 13th\, 5:30 to 7:30 pm!\n\n\n\nThe B2B Network will be held at Executive Member Gallagher Metzler Insurance\, located at 1201 Walnut Street\, Suite 1400\, Kansas City\, MO. \n\n\n\nNetwork * Make new friends * Increase your bottom line! \n\n \n\nFree for Mid-America GLCC Members. $20 each for Prospective Members.\n\n\n\nComplimentary wine and beer and delicious appetizers courtesy of Gallagher Metzler Insurance.\n\n\n\nParking Information:\n\nStreet Parking is available or you can pay to park in the Town Pavilion Parking Garage. There is a concert at Sprint Center that night so parking in the garage will cost between $10 and $15. The Town Pavilion Parking Garage is located at 198 E. 13th Street.
X-ALT-DESC;FMTTYPE=text/html:<br />\n<span style="color:#000080\;"><span style="font-family: Arial\,Verdana\,sans-serif\; font-size: 12px\; font-style: normal\; font-variant: normal\; font-weight: normal\; letter-spacing: normal\; line-height: normal\; text-align: start\; text-indent: 0px\; text-transform: none\; white-space: normal\; word-spacing: 0px\;"><span style="font-family: arial\,sans-serif\;"><span style="font-size: 10pt\;"><strong>We apologize but online registration has closed. You may register at the door this evening beginning at 5:30 pm. We hope to see you tonight at the B2B Network!</strong></span></span></span></span><br />\n<br />\n<span style="font-family: Arial\, Verdana\, sans-serif\; font-size: 12px\; font-style: normal\; font-variant: normal\; font-weight: normal\; letter-spacing: normal\; line-height: normal\; orphans: auto\; text-align: start\; text-indent: 0px\; text-transform: none\; white-space: normal\; widows: auto\; word-spacing: 0px\; -webkit-text-stroke-width: 0px\; color: rgb(94\, 85\, 53)\;"><span style="font-family: arial\, sans-serif\;"><span style="font-size: 10pt\;">Join the<span class="Apple-converted-space">&nbsp\;</span><a href="http://r20.rs6.net/tn.jsp?e=001KJZyDDiZJuqKl_fytTfAzCDa_4GQhcZDrzNM2DP7wXBDrkPJT8pF84kR-Mo18Cu8yEhluYBi4WxQsNWnN3De-q_k54ezWfL4L0fv6_lPeMAjzlVPSNbWR6O7vH7Sn68N9YcFSRtWTacffEU7bACwRmprszOoxMufx5LWvlOsZ37Bh_nIzmZCaNFQC8co86Ggg-ySpCWM_df8-hY_geJPjNCQDxT451CS74fYw8qyBdZPmrWaxEsH9u1K5H79bUPV" shape="rect" target="_blank">Mid-America<span class="Apple-converted-space">&nbsp\;</span>GLCC</a><span class="Apple-converted-space">&nbsp\;</span>for the <strong><span style="font-family: arial\, sans-serif\;">B2B<span class="Apple-converted-space">&nbsp\;</span>Network</span></strong></span></span></span><span style="font-family: Arial\, Verdana\, sans-serif\; font-size: 12px\; font-style: normal\; font-variant: normal\; font-weight: normal\; letter-spacing: normal\; line-height: normal\; orphans: auto\; text-align: start\; text-indent: 0px\; text-transform: none\; white-space: normal\; widows: auto\; word-spacing: 0px\; -webkit-text-stroke-width: 0px\; color: rgb(94\, 85\, 53)\;"><span style="font-family: arial\, sans-serif\;"><span style="font-size: 9pt\;"><span class="Apple-converted-space"> </span>on<span class="Apple-converted-space"> </span><strong><span style="font-family: arial\, sans-serif\;">Thursday\, February 13th</span></strong></span>\, 5:30 to 7:30 pm!</span></span><br />\n<br />\n<span style="font-family: Arial\,Verdana\,sans-serif\; font-size: 12px\; font-style: normal\; font-variant: normal\; font-weight: normal\; letter-spacing: normal\; line-height: normal\; text-align: start\; text-indent: 0px\; text-transform: none\; white-space: normal\; word-spacing: 0px\;"><span style="font-family: arial\, sans-serif\;">The<span class="Apple-converted-space">&nbsp\;</span>B2B<span class="Apple-converted-space">&nbsp\;</span>Network will be held at<em><span style="font-family: arial\, sans-serif\;"><span class="Apple-converted-space"> </span>Executive</span></em></span></span><span style="font-family: Arial\,Verdana\,sans-serif\; font-size: 12px\; font-style: normal\; font-variant: normal\; font-weight: normal\; letter-spacing: normal\; line-height: normal\; text-align: start\; text-indent: 0px\; text-transform: none\; white-space: normal\; word-spacing: 0px\;"><span style="font-family: arial\, sans-serif\;"><span style="font-size: 9pt\;"><span class="Apple-converted-space"> </span><em>Member</em><span class="Apple-converted-space"> <strong>Gallagher Metzler Insurance</strong></span><a href="http://www.shb.com">\,</a><span class="Apple-converted-space">&nbsp\;</span>located at<span class="Apple-converted-space"> </span><strong><span style="font-family: arial\, sans-serif\;">1201 Walnut Street\, Suite 1400</span></strong></span>\, Kansas City\, MO.<span class="Apple-converted-space"> </span></span></span><br style="color: rgb(34\, 34\, 34)\; font-family: Arial\, Verdana\, sans-serif\; font-size: 12px\; font-style: normal\; font-variant: normal\; font-weight: normal\; letter-spacing: normal\; line-height: normal\; orphans: auto\; text-align: start\; text-indent: 0px\; text-transform: none\; white-space: normal\; widows: auto\; word-spacing: 0px\; -webkit-text-stroke-width: 0px\;" />\n<br style="color: rgb(34\, 34\, 34)\; font-family: Arial\, Verdana\, sans-serif\; font-size: 12px\; font-style: normal\; font-variant: normal\; font-weight: normal\; letter-spacing: normal\; line-height: normal\; orphans: auto\; text-align: start\; text-indent: 0px\; text-transform: none\; white-space: normal\; widows: auto\; word-spacing: 0px\; -webkit-text-stroke-width: 0px\;" />\n<strong style="color: rgb(34\, 34\, 34)\; font-family: Arial\, Verdana\, sans-serif\; font-size: 12px\; font-style: normal\; font-variant: normal\; letter-spacing: normal\; line-height: normal\; orphans: auto\; text-align: start\; text-indent: 0px\; text-transform: none\; white-space: normal\; widows: auto\; word-spacing: 0px\; -webkit-text-stroke-width: 0px\;"><span style="color: rgb(0\, 79\, 108)\;"><span style="font-family: arial\, sans-serif\;"><span style="font-size: 10pt\;">Network</span></span></span></strong><span style="font-family: Arial\, Verdana\, sans-serif\; font-size: 12px\; font-style: normal\; font-variant: normal\; font-weight: normal\; letter-spacing: normal\; line-height: normal\; orphans: auto\; text-align: start\; text-indent: 0px\; text-transform: none\; white-space: normal\; widows: auto\; word-spacing: 0px\; -webkit-text-stroke-width: 0px\; color: rgb(94\, 85\, 53)\;"><span style="font-family: arial\, sans-serif\;"><span style="font-size: 10pt\;"><span class="Apple-converted-space">&nbsp\;</span>*<span class="Apple-converted-space">&nbsp\;</span></span></span></span><strong style="color: rgb(34\, 34\, 34)\; font-family: Arial\, Verdana\, sans-serif\; font-size: 12px\; font-style: normal\; font-variant: normal\; letter-spacing: normal\; line-height: normal\; orphans: auto\; text-align: start\; text-indent: 0px\; text-transform: none\; white-space: normal\; widows: auto\; word-spacing: 0px\; -webkit-text-stroke-width: 0px\;"><span style="color: rgb(240\, 84\, 35)\;"><span style="font-family: arial\, sans-serif\;"><span style="font-size: 10pt\;">Make new friends</span></span></span></strong><span style="font-family: Arial\, Verdana\, sans-serif\; font-size: 12px\; font-style: normal\; font-variant: normal\; font-weight: normal\; letter-spacing: normal\; line-height: normal\; orphans: auto\; text-align: start\; text-indent: 0px\; text-transform: none\; white-space: normal\; widows: auto\; word-spacing: 0px\; -webkit-text-stroke-width: 0px\; color: rgb(94\, 85\, 53)\;"><span style="font-family: arial\, sans-serif\;"><span style="font-size: 10pt\;"><span class="Apple-converted-space">&nbsp\;</span>*<span class="Apple-converted-space">&nbsp\;</span></span></span></span><strong style="color: rgb(34\, 34\, 34)\; font-family: Arial\, Verdana\, sans-serif\; font-size: 12px\; font-style: normal\; font-variant: normal\; letter-spacing: normal\; line-height: normal\; orphans: auto\; text-align: start\; text-indent: 0px\; text-transform: none\; white-space: normal\; widows: auto\; word-spacing: 0px\; -webkit-text-stroke-width: 0px\;"><span style="color: rgb(253\, 183\, 32)\;"><span style="font-family: arial\, sans-serif\;"><span style="font-size: 10pt\;">Increase your bottom line</span></span></span></strong><span style="font-family: Arial\, Verdana\, sans-serif\; font-size: 12px\; font-style: normal\; font-variant: normal\; font-weight: normal\; letter-spacing: normal\; line-height: normal\; orphans: auto\; text-align: start\; text-indent: 0px\; text-transform: none\; white-space: normal\; widows: auto\; word-spacing: 0px\; -webkit-text-stroke-width: 0px\; color: rgb(94\, 85\, 53)\;"><span style="font-family: arial\, sans-serif\;"><span style="font-size: 10pt\;">!&nbsp\;</span></span></span><br style="color: rgb(34\, 34\, 34)\; font-family: Arial\, Verdana\, sans-serif\; font-size: 12px\; font-style: normal\; font-variant: normal\; font-weight: normal\; letter-spacing: normal\; line-height: normal\; orphans: auto\; text-align: start\; text-indent: 0px\; text-transform: none\; white-space: normal\; widows: auto\; word-spacing: 0px\; -webkit-text-stroke-width: 0px\;" />\n<span style="color: rgb(34\, 34\, 34)\; font-family: Arial\, Verdana\, sans-serif\; font-size: 12px\; font-style: normal\; font-variant: normal\; font-weight: normal\; letter-spacing: normal\; line-height: normal\; orphans: auto\; text-align: start\; text-indent: 0px\; text-transform: none\; white-space: normal\; widows: auto\; word-spacing: 0px\; -webkit-text-stroke-width: 0px\; background-color: rgb(255\, 255\, 255)\; display: inline !important\; float: none\;">&nbsp\;</span><br style="color: rgb(34\, 34\, 34)\; font-family: Arial\, Verdana\, sans-serif\; font-size: 12px\; font-style: normal\; font-variant: normal\; font-weight: normal\; letter-spacing: normal\; line-height: normal\; orphans: auto\; text-align: start\; text-indent: 0px\; text-transform: none\; white-space: normal\; widows: auto\; word-spacing: 0px\; -webkit-text-stroke-width: 0px\;" />\n<strong style="color: rgb(34\, 34\, 34)\; font-family: Arial\, Verdana\, sans-serif\; font-size: 12px\; font-style: normal\; font-variant: normal\; letter-spacing: normal\; line-height: normal\; orphans: auto\; text-align: start\; text-indent: 0px\; text-transform: none\; white-space: normal\; widows: auto\; word-spacing: 0px\; -webkit-text-stroke-width: 0px\;"><span style="color: rgb(94\, 85\, 53)\;"><span style="font-family: arial\, sans-serif\;"><span style="font-size: 10pt\;">Free for Mid-America<span class="Apple-converted-space">&nbsp\;</span>GLCC<span class="Apple-converted-space">&nbsp\;</span>Members</span></span></span></strong><span style="font-family: Arial\, Verdana\, sans-serif\; font-size: 12px\; font-style: normal\; font-variant: normal\; font-weight: normal\; letter-spacing: normal\; line-height: normal\; orphans: auto\; text-align: start\; text-indent: 0px\; text-transform: none\; white-space: normal\; widows: auto\; word-spacing: 0px\; -webkit-text-stroke-width: 0px\; color: rgb(94\, 85\, 53)\;"><span style="font-family: arial\, sans-serif\;"><span style="font-size: 10pt\;">. $20 each for Prospective Members.<br />\n<br />\nComplimentary wine and beer and delicious appetizers courtesy of Gallagher Metzler Insurance.<br />\n<br />\n<span><span><strong>Parking Information:</strong><br />\nStreet Parking is available or you can pay to park in the Town Pavilion Parking Garage. There is a concert at Sprint Center that night so parking in the garage will cost between $10 and $15. The Town Pavilion Parking Garage is located at 198 E. 13th Street.&nbsp\; </span></span></span></span></span><br />\n<br />\n
LOCATION:Ofifces of Gallagher Metzler Insurance 1201 Walnut Street Suite 1400 Kansas City\, MO 64106 Parking Information: Street Parking is available or you can pay to park in the Town Pavilion Parking Garage. There is a concert at Sprint Center that night so parking in the garage will cost between $10 and $15. The Town Pavilion Parking Garage is located at 198 E. 13th Street.
UID:e.1487.80
SEQUENCE:3
DTSTAMP:20260421T122820Z
URL:http://business.midamericalgbt.org/events/details/the-b2b-network-february-02-13-2014-80
END:VEVENT

END:VCALENDAR
