BEGIN:VCALENDAR
VERSION:2.0
PRODID:-//ChamberMaster//Event Calendar 2.0//EN
METHOD:PUBLISH
X-PUBLISHED-TTL:P3D
REFRESH-INTERVAL:P3D
CALSCALE:GREGORIAN
BEGIN:VEVENT
DTSTART:20140109T233000Z
DTEND:20140110T013000Z
X-MICROSOFT-CDO-ALLDAYEVENT:FALSE
SUMMARY:The B2B Network--January
DESCRIPTION:We apologize but online registration has closed. However\, you may register tonight at the door beginning at 5:30 pm. We hope to see you this evening at the B2B Network! \n\n\n\nJoin the Mid-America GLCC for the first B2B Network of 2014 on Thursday\, January 9th\, 5:30 to 7:30 pm!\n\n\n\nThe B2B Network will be held at Chairman's Circle Member Argosy Casino Hotel & Spa\, located at 777 NW Argosy Casino Parkway\, Riverside\, MO. The B2B Network will be held in the Athens Ballroom on the second floor of the casino.\n\n\n\nAfter The B2B Network\, stay the night at the Argosy Casino Hotel and Spa for only $99! To receive this special rate\, mention Mid-America GLCC when making your reservation. To make your reservation call 1-800-270-7711.\n\n\n\nNetwork * Make new friends * Increase your bottom line! \n\n \n\nFree for Mid-America GLCC Members. $20 each for Prospective Members.\n\n\n\nComplimentary wine and beer and delicious appetizers courtesy of Argosy Casino Hotel & Spa. Cash bar will be available if you would like something to drink other than wine\, beer and soft drinks (cash only--no credit cards accepted). \n\n\n\n\n\nParking Information:\n\nYou may park for free in the Argosy Casino Parking Garage.
X-ALT-DESC;FMTTYPE=text/html:<strong><span style="color:#000080\;"><span style="font-family: arial\,sans-serif\;"><span style="font-size: 10pt\;">We apologize but online registration has closed. However\, you may register tonight at the door beginning at 5:30 pm. We hope to see you this evening at the B2B Network! </span></span></span></strong><br />\n<br />\n<span style="color:#5e5535\;"><span style="font-family:arial\,sans-serif\;"><span style="font-size:10.0pt\;">Join the <a href="http://r20.rs6.net/tn.jsp?e=001KJZyDDiZJuqKl_fytTfAzCDa_4GQhcZDrzNM2DP7wXBDrkPJT8pF84kR-Mo18Cu8yEhluYBi4WxQsNWnN3De-q_k54ezWfL4L0fv6_lPeMAjzlVPSNbWR6O7vH7Sn68N9YcFSRtWTacffEU7bACwRmprszOoxMufx5LWvlOsZ37Bh_nIzmZCaNFQC8co86Ggg-ySpCWM_df8-hY_geJPjNCQDxT451CS74fYw8qyBdZPmrWaxEsH9u1K5H79bUPV" shape="rect" target="_blank">Mid-America GLCC</a> for the first&nbsp\;<strong><span style="font-family:arial\,sans-serif\;">B2B Network</span></strong></span></span></span><span style="color:#5e5535\;"><span style="font-family:arial\,sans-serif\;"><span style="font-size:9.0pt\;"> of 2014 on <strong><span style="font-family:arial\,sans-serif\;">Thursday\, January 9th</span></strong></span>\, 5:30 to 7:30 pm!<br />\n<br />\nThe B2B Network will be held at<em><span style="font-family:arial\,sans-serif\;"> Chairman&#39\;s Circle</span></em></span></span><span style="color:black\;"><span style="font-family:arial\,sans-serif\;"><span style="font-size:9.0pt\;"> Member <a href="http://www.argosykansascity.com/">Argosy Casino Hotel &amp\; Spa</a><a href="http://www.shb.com">\,</a> located at <strong><span style="font-family:arial\,sans-serif\;">777 NW Argosy Casino Parkway</span></strong></span>\, Riverside\, MO. </span></span>The B2B Network will be held in the Athens Ballroom on the second floor of the casino.<br />\n<br />\nAfter The B2B Network\, stay the night at the Argosy Casino Hotel and Spa for only $99! To receive this special rate\, mention Mid-America GLCC when making your reservation. To make your reservation call 1-800-270-7711.<br />\n<br />\n<strong><span style="color:#004f6c\;"><span style="font-family:arial\,sans-serif\;"><span style="font-size:10.0pt\;">Network</span></span></span></strong><span style="color:#5e5535\;"><span style="font-family:arial\,sans-serif\;"><span style="font-size:10.0pt\;"> * </span></span></span><strong><span style="color:#f05423\;"><span style="font-family:arial\,sans-serif\;"><span style="font-size:10.0pt\;">Make new friends</span></span></span></strong><span style="color:#5e5535\;"><span style="font-family:arial\,sans-serif\;"><span style="font-size:10.0pt\;"> * </span></span></span><strong><span style="color:#fdb720\;"><span style="font-family:arial\,sans-serif\;"><span style="font-size:10.0pt\;">Increase your bottom line</span></span></span></strong><span style="color:#5e5535\;"><span style="font-family:arial\,sans-serif\;"><span style="font-size:10.0pt\;">!&nbsp\;</span></span></span><br />\n&nbsp\;<br />\n<strong><span style="color:#5e5535\;"><span style="font-family:arial\,sans-serif\;"><span style="font-size:10.0pt\;">Free for Mid-America GLCC Members</span></span></span></strong><span style="color:#5e5535\;"><span style="font-family:arial\,sans-serif\;"><span style="font-size:10.0pt\;">. $20 each for Prospective Members.<br />\n<br />\nComplimentary wine and beer and delicious appetizers courtesy of Argosy Casino Hotel &amp\; Spa. Cash bar will be available if you would like something to drink other than wine\, beer and soft drinks (cash only--no credit cards accepted). </span></span></span><br />\n<br />\n<br />\n<span style="color:black\;"><span style="font-family:arial\,sans-serif\;"><span style="font-size:9.0pt\;"><strong><span style="font-family:arial\,sans-serif\;">Parking Information:</span></strong></span></span></span><br />\nYou may park for free in the Argosy Casino Parking Garage.
LOCATION:Argosy Casino Hotel & Spa 777 NW Argosy Casino Parkway Riverside\, MO 64150 Click here for driving directions.
UID:e.1487.76
SEQUENCE:3
DTSTAMP:20260421T135147Z
URL:http://business.midamericalgbt.org/events/details/the-b2b-network-january-01-09-2014-76
END:VEVENT

END:VCALENDAR
