BEGIN:VCALENDAR
VERSION:2.0
PRODID:-//ChamberMaster//Event Calendar 2.0//EN
METHOD:PUBLISH
X-PUBLISHED-TTL:P3D
REFRESH-INTERVAL:P3D
CALSCALE:GREGORIAN
BEGIN:VEVENT
DTSTART:20140313T223000Z
DTEND:20140314T003000Z
X-MICROSOFT-CDO-ALLDAYEVENT:FALSE
SUMMARY:The B2B Network--March
DESCRIPTION:We apologize but online registration has closed. You can register at the door this evening beginning at 5:30 pm. We hope to see you at the B2B Network! \n\n\n\nJoin the Mid-America GLCC at the B2B Network on Thursday\, March 13th\, 5:30 to 7:30 pm! \n\n \n\nThe B2B Network will be held at Mid-America GLCC Member\, Marriott Overland Park\, located at 10800 Metcalf Avenue\, Overland Park\, KS 66210. The B2B Network will be held in the Quail Ballroom at the hotel.\n\n  \n\nDuring the event\, John Fierro from the KCI Terminal Advisory Committee\, will give an update on the progress of the study to either renovate or rebuild Kansas City International Airport. In addition\, the Marriott's talented chefs will demonstrate how to roll sushi. Also\, the Marriott will provide guided tours of the Presidential Suite. \n\n\n\nNetwork * Make new friends * Increase your bottom line! \n\n \n\nFree for Mid-America GLCC Members. $20 each for Prospective Members. \n\n \n\nComplimentary beer & wine and delicious appetizers courtesy of Marriott Overland Park.\n\n\n\nParking Information: \n\nPlenty of free parking is available in the Marriott Overland Park parking lot surrounding the hotel.
X-ALT-DESC;FMTTYPE=text/html:<span style="color:#FF8C00\;"><span style="font-family: arial\,sans-serif\;"><span style="font-size: 10pt\;"><strong>We apologize but online registration has closed. You can register at the door this evening beginning at 5:30 pm. We hope to see you at the B2B Network! </strong></span></span></span><br />\n<br />\n<span style="color:#666666\;"><span style="font-family:arial\,sans-serif\;"><span style="font-size:10.0pt\;">Join the <a href="http://r20.rs6.net/tn.jsp?e=001BvmS5qZOKJN8UOboZpeTMpuTjlsBuBHY7ynqurH2uRfapZXngLzkV0Pu-F_E-vyoXiPog_Vus7YGqnQg3nWxXnYD-yLINixI6JS_YBNgUPI6tYFnJ0wERw==" shape="rect" target="_blank">Mid-America GLCC</a> at the B2B Network on <strong><span style="font-family:arial\,sans-serif\;">Thursday\, March 13th</span></strong>\, 5:30 to 7:30 pm!&nbsp\;</span></span></span><br />\n&nbsp\;<br />\n<span style="color:#666666\;"><span style="font-family:arial\,sans-serif\;"><span style="font-size:10.0pt\;">The B2B Network will be held at Mid-America GLCC Member\, <a href="http://r20.rs6.net/tn.jsp?e=001BvmS5qZOKJN8UOboZpeTMpuTjlsBuBHY7ynqurH2uRfapZXngLzkV0Pu-F_E-vyoXiPog_Vus7YGqnQg3nWxXnYD-yLINixIiCkMNvr_V8h7n0WAa8J2TaOj56l-6UUfPr03Co-DvL0Fi3BRF-waAczUlL5MqHf4vnmIypJMIi7pHUmNMW462g==" shape="rect" target="_blank">Marriott Overland Park</a>\, located at<strong><span style="font-family:arial\,sans-serif\;"> 10800 Metcalf Avenue\,</span></strong> Overland Park\, KS 6621<strong><span style="font-family:arial\,sans-serif\;">0.</span></strong> The B2B Network will be held in the Quail Ballroom at the hotel.</span></span></span><br />\n&nbsp\;&nbsp\;<br />\n<span style="color:#666666\;"><span style="font-family:arial\,sans-serif\;"><span style="font-size:10.0pt\;">During the event\, <strong><span style="font-family:arial\,sans-serif\;">John Fierro</span></strong> from the <strong><span style="font-family:arial\,sans-serif\;">KCI Terminal Advisory Committee</span></strong>\, will give an update on the progress of the study to either renovate or rebuild Kansas City International Airport. In addition\, the Marriott&#39\;s talented chefs will <strong><span style="font-family:arial\,sans-serif\;">demonstrate how to roll sushi</span></strong>. Also\, the Marriott will provide <strong><span style="font-family:arial\,sans-serif\;">guided tours of the Presidential Suite</span></strong>.</span></span></span>&nbsp\;<br />\n<br />\n<strong><em><span style="color:#004F6C\;"><span style="font-family:arial\,sans-serif\;"><span style="font-size:10.0pt\;">Network *</span></span></span></em></strong><strong><em><span style="color:#F05423\;"><span style="font-family:arial\,sans-serif\;"><span style="font-size:10.0pt\;"> Make new friends</span></span></span></em></strong><strong><em><span style="color:#004F6C\;"><span style="font-family:arial\,sans-serif\;"><span style="font-size:10.0pt\;"> * </span></span></span></em></strong><strong><em><span style="color:#FDB720\;"><span style="font-family:arial\,sans-serif\;"><span style="font-size:10.0pt\;">Increase your bottom line</span></span></span></em></strong><strong><em><span style="color:#004F6C\;"><span style="font-family:arial\,sans-serif\;"><span style="font-size:10.0pt\;">!&nbsp\;</span></span></span></em></strong><br />\n&nbsp\;<br />\n<strong><span style="color:#666666\;"><span style="font-family:arial\,sans-serif\;"><span style="font-size:10.0pt\;">Free for Mid-America GLCC Members</span></span></span></strong><span style="color:#666666\;"><span style="font-family:arial\,sans-serif\;"><span style="font-size:10.0pt\;">. $20 each for Prospective Members.&nbsp\;</span></span></span><br />\n&nbsp\;<br />\n<span style="color:#666666\;"><span style="font-family:arial\,sans-serif\;"><span style="font-size:10.0pt\;">Complimentary beer &amp\; wine and delicious appetizers courtesy of Marriott Overland Park.</span></span></span><br />\n<br />\n<strong><span style="color:#666666\;"><span style="font-family:arial\,sans-serif\;"><span style="font-size:10.0pt\;">Parking Information:</span></span></span></strong>&nbsp\;<br />\n<span style="color:#666666\;"><span style="font-family:arial\,sans-serif\;"><span style="font-size:10.0pt\;">Plenty of free parking is available in the Marriott Overland Park parking lot surrounding the hotel.&nbsp\; </span></span></span>
LOCATION:Marriott Overland Park 10800 Metcalf Ave. Overland Park\, KS 66210 Parking Information: Plenty of free parking is available in the Marriott Overland Park parking lot surrounding the hotel.
UID:e.1487.89
SEQUENCE:3
DTSTAMP:20260421T110933Z
URL:http://business.midamericalgbt.org/events/details/the-b2b-network-march-03-13-2014-89
END:VEVENT

END:VCALENDAR
