BEGIN:VCALENDAR
VERSION:2.0
PRODID:-//ChamberMaster//Event Calendar 2.0//EN
METHOD:PUBLISH
X-PUBLISHED-TTL:P3D
REFRESH-INTERVAL:P3D
CALSCALE:GREGORIAN
BEGIN:VEVENT
DTSTART:20131213T010000Z
DTEND:20131213T030000Z
X-MICROSOFT-CDO-ALLDAYEVENT:FALSE
SUMMARY:The Mary Princess
DESCRIPTION:The Mary Princess\n\n	December 12 | 7-9 p.m. | $25\n\n	This holiday season\, get GLAMA-rous with the Kansas City Museum! Join GLAMA: the Gay & Lesbian Archive of Mid-America at Corinthian Hall as famed KC entertainer Melinda Ryder\, the Fairy Queen\, assumes the throne for a one-night only "Mary" Princess fundraising cocktail reception. Your ticket admits you to the fabulous Throne Room for fun\, food and a special keepsake photo with Melinda herself! Space is limited for this unique opportunity   make your reservations at kansascitymuseum.org or by calling Rebecca Schroeder at 816-483-8300 x1402.
X-ALT-DESC;FMTTYPE=text/html:<p class="RegularText" style="font-family: Verdana\, Arial\, Geneva\, Helvetica\, sans-serif\; margin: 2px 20px 5px 10px\;">\n	<b>The Mary Princess</b><br />\n	December 12 | 7-9 p.m. | $25</p>\n<p class="RegularText" style="font-family: Verdana\, Arial\, Geneva\, Helvetica\, sans-serif\; margin: 2px 20px 5px 10px\;">\n	This holiday season\, get GLAMA-rous with the Kansas City Museum! Join GLAMA: the Gay &amp\; Lesbian Archive of Mid-America at Corinthian Hall as famed KC entertainer Melinda Ryder\, the Fairy Queen\, assumes the throne for a one-night only &ldquo\;Mary&rdquo\; Princess fundraising cocktail reception. Your ticket admits you to the fabulous Throne Room for fun\, food and a special keepsake photo with Melinda herself! Space is limited for this unique opportunity &ndash\; make your reservations at kansascitymuseum.org or by calling Rebecca Schroeder at 816-483-8300 x1402.</p>\n
LOCATION:Kansas City Museum 3218 Gladstone Blvd. Kansas City\, MO 64123
UID:e.1487.52
SEQUENCE:3
DTSTAMP:20260421T153234Z
URL:http://business.midamericalgbt.org/events/details/the-mary-princess-12-12-2013-52
END:VEVENT

END:VCALENDAR
