BEGIN:VCALENDAR
VERSION:2.0
PRODID:-//ChamberMaster//Event Calendar 2.0//EN
METHOD:PUBLISH
X-PUBLISHED-TTL:P3D
REFRESH-INTERVAL:P3D
CALSCALE:GREGORIAN
BEGIN:VEVENT
DTSTART:20131201T230000Z
DTEND:20131202T010000Z
X-MICROSOFT-CDO-ALLDAYEVENT:FALSE
SUMMARY:World AIDS Day Reception 2013
DESCRIPTION:The World AIDS Day Reception will be held on Sunday\, December 1st\, 5:00 to 7:00 pm at Californos Westport\, 4124 Pennsylvania Avenue\, Kansas City\, Missouri. Local volunteers will present a brief program as we remember those who have fallen to the pandemic and affirm those living with HIV/AIDS. Code Red\, hosted by the Millennial League\, will be held immediately following the reception from 7:00 to 9:00 pm. All World AIDS Day Reception attendees are invited to stay and enjoy Code Red. General admission tickets to the Reception are only $50 and Patron levels are also available. You can find more details on Patron Levels and tickets at https://worldaidsday2013.eventbrite.com/.\n\nFor more information on how you can be a part of World AIDS Day 2013\, visit https://worldaidsday2013.eventbrite.com/
X-ALT-DESC;FMTTYPE=text/html:<span itemprop="description"><span class="fsl"><span class="text_exposed_show">The World AIDS Day Reception will be held on Sunday\, December 1st\, 5:00 to 7:00 pm at Californos Westport\, 4124 Pennsylvania Avenue\, Kansas City\, Missouri. Local volunteers will present a brief program as we remember those who have fallen to the pandemic and affirm those living with HIV/AIDS. Code Red\, hosted by the Millennial League\, will be held immediately following the reception from 7:00 to 9:00 pm. All World AIDS Day Reception attendees are invited to stay and enjoy Code Red. General admission tickets to the Reception are only $50 and Patron levels are also available. You can find more details on Patron Levels and tickets at <a href="https://worldaidsday2013.eventbrite.com/" rel="nofollow nofollow" target="_blank"><span>https://</span><wbr /><span>worldaidsday2013.eventbrite</span><wbr />.com/</a>.<br />\nFor more information on how you can be a part of World AIDS Day 2013\, visit <a href="https://worldaidsday2013.eventbrite.com/" rel="nofollow nofollow" target="_blank"><span>https://</span><wbr /><span>worldaidsday2013.eventbrite</span><wbr />.com/</a></span></span></span>
LOCATION:Californos Westport 4124 Pennsylvania Ave Kansas City\, MO 64111
UID:e.1487.65
SEQUENCE:3
DTSTAMP:20260421T153330Z
URL:http://business.midamericalgbt.org/events/details/world-aids-day-reception-2013-12-01-2013-65
END:VEVENT

END:VCALENDAR
